Workbook

Sheet T.L menn
A1: 5´cup 2010-11 | H1: Herrer:
A2: Nr | B2: Navn | C2: Klubb | D2: Aug. | E2: Sept. | F2: Okt. | G2: Nov. | H2: Des. | I2: Jan. | J2: Febr. | K2: Mars | L2: April | M2: Mai | N2: Sum | O2: Serier | P2: Snitt
B3: HAMAR
A5: 1 | B5: Stian Olsen | C5: BR | D5: 1434 | N5: =SUM(D5:M5) -> 1434 | O5: =COUNT(D5:M5)*6 -> 6 | P5: =N5/O5 -> 239
A6: 2 | B6: Tor Inge Jansen | C6: BR | D6: 1384 | N6: =SUM(D6:M6) -> 1384 | O6: =COUNT(D6:M6)*6 -> 6 | P6: =N6/O6 -> 230.66667
A7: 3 | B7: Erland Lund | C7: BR | D7: 1381 | N7: =SUM(D7:M7) -> 1381 | O7: =COUNT(D7:M7)*6 -> 6 | P7: =N7/O7 -> 230.16667
A8: 4 | B8: Odd G. Kaspersen | C8: B | D8: 1362 | N8: =SUM(D8:M8) -> 1362 | O8: =COUNT(D8:M8)*6 -> 6 | P8: =N8/O8 -> 227
A9: 5 | B9: Christer Aker | C9: BR | D9: 1356 | N9: =SUM(D9:M9) -> 1356 | O9: =COUNT(D9:M9)*6 -> 6 | P9: =N9/O9 -> 226
A10: 6 | B10: Pål S. Romskaug | C10: B | D10: 1322 | N10: =SUM(D10:M10) -> 1322 | O10: =COUNT(D10:M10)*6 -> 6 | P10: =N10/O10 -> 220.33333
A11: 7 | B11: Sean M. Hustveit | C11: BR | D11: 1308 | N11: =SUM(D11:M11) -> 1308 | O11: =COUNT(D11:M11)*6 -> 6 | P11: =N11/O11 -> 218
A12: 8 | B12: Tron Bråten | C12: BR | D12: 1254 | N12: =SUM(D12:M12) -> 1254 | O12: =COUNT(D12:M12)*6 -> 6 | P12: =N12/O12 -> 209
A13: 9 | B13: Thore Liberg | C13: BR | D13: 1218 | N13: =SUM(D13:M13) -> 1218 | O13: =COUNT(D13:M13)*6 -> 6 | P13: =N13/O13 -> 203
A14: 10 | B14: Arne Svein Strøm | C14: BR | D14: 1196 | N14: =SUM(D14:M14) -> 1196 | O14: =COUNT(D14:M14)*6 -> 6 | P14: =N14/O14 -> 199.33333
A15: 11 | B15: Lars A. Granheim | C15: BR | D15: 1183 | N15: =SUM(D15:M15) -> 1183 | O15: =COUNT(D15:M15)*6 -> 6 | P15: =N15/O15 -> 197.16667
A16: 12 | B16: Henning Olsen | C16: BR | D16: 1140 | N16: =SUM(D16:M16) -> 1140 | O16: =COUNT(D16:M16)*6 -> 6 | P16: =N16/O16 -> 190
... A18: 14 | B18: Sindre Dahlen | C18: BR | D18: 1094 | N18: =SUM(D18:M18) -> 1094 | O18: =COUNT(D18:M18)*6 -> 6 | P18: =N18/O18 -> 182.33333
B20: ELVERUM
A22: 1 | B22: Ole Andre Bjørsland | C22: BR | D22: 1200 | N22: =SUM(D22:M22) -> 1200 | O22: =COUNT(D22:M22)*6 -> 6 | P22: =N22/O22 -> 200
A23: 2 | B23: Frank Bangshaug | C23: E | D23: 1172 | N23: =SUM(D23:M23) -> 1172 | O23: =COUNT(D23:M23)*6 -> 6 | P23: =N23/O23 -> 195.33333
A24: 3 | B24: Rolf J Boysen | C24: BR | D24: 1162 | N24: =SUM(D24:M24) -> 1162 | O24: =COUNT(D24:M24)*6 -> 6 | P24: =N24/O24 -> 193.66667
A25: 4 | B25: Terje Hansen | C25: E | D25: 1131 | N25: =SUM(D25:M25) -> 1131 | O25: =COUNT(D25:M25)*6 -> 6 | P25: =N25/O25 -> 188.5
A26: 5 | B26: Ove Osgjelten | C26: E | D26: 1130 | N26: =SUM(D26:M26) -> 1130 | O26: =COUNT(D26:M26)*6 -> 6 | P26: =N26/O26 -> 188.33333
A27: 6 | B27: Terje Johansen | C27: E | D27: 1082 | N27: =SUM(D27:M27) -> 1082 | O27: =COUNT(D27:M27)*6 -> 6 | P27: =N27/O27 -> 180.33333
A28: 7 | B28: Egil D Pedersen | C28: E | D28: 1063 | N28: =SUM(D28:M28) -> 1063 | O28: =COUNT(D28:M28)*6 -> 6 | P28: =N28/O28 -> 177.16667
A29: 8 | B29: Magne Brobakken | C29: E | D29: 1033 | N29: =SUM(D29:M29) -> 1033 | O29: =COUNT(D29:M29)*6 -> 6 | P29: =N29/O29 -> 172.16667
A30: 9 | B30: Lars Ove Dahl | C30: E | D30: 1026 | N30: =SUM(D30:M30) -> 1026 | O30: =COUNT(D30:M30)*6 -> 6 | P30: =N30/O30 -> 171
A31: 10 | B31: Peder Skog | C31: E | D31: 1010 | N31: =SUM(D31:M31) -> 1010 | O31: =COUNT(D31:M31)*6 -> 6 | P31: =N31/O31 -> 168.33333
A32: 11 | B32: Karl Kristoffersen | C32: E | D32: 823 | N32: =SUM(D32:M32) -> 823 | O32: =COUNT(D32:M32)*6 -> 6 | P32: =N32/O32 -> 137.16667
B34: GJØVIK
A36: 1 | B36: Daniel Gausetvik | C36: GJ | D36: 1325 | N36: =SUM(D36:M36) -> 1325 | O36: =COUNT(D36:M36)*6 -> 6 | P36: =N36/O36 -> 220.83333
A37: 2 | B37: Øyvind Skoglund | C37: GJ | D37: 1295 | N37: =SUM(D37:M37) -> 1295 | O37: =COUNT(D37:M37)*6 -> 6 | P37: =N37/O37 -> 215.83333
A38: 3 | B38: Tommy Johannessen | C38: GJ | D38: 1293 | N38: =SUM(D38:M38) -> 1293 | O38: =COUNT(D38:M38)*6 -> 6 | P38: =N38/O38 -> 215.5
A39: 4 | B39: Bjørn F Svendby | C39: GJ | D39: 1257 | N39: =SUM(D39:M39) -> 1257 | O39: =COUNT(D39:M39)*6 -> 6 | P39: =N39/O39 -> 209.5
A40: 5 | B40: Rune Martinsen | C40: GJ | D40: 1238 | N40: =SUM(D40:M40) -> 1238 | O40: =COUNT(D40:M40)*6 -> 6 | P40: =N40/O40 -> 206.33333
A41: 6 | B41: Geir Ståle Kristiansen | C41: S | D41: 1237 | N41: =SUM(D41:M41) -> 1237 | O41: =COUNT(D41:M41)*6 -> 6 | P41: =N41/O41 -> 206.16667
A42: 7 | B42: Magne Erik Olsen | C42: GJ | D42: 1139 | N42: =SUM(D42:M42) -> 1139 | O42: =COUNT(D42:M42)*6 -> 6 | P42: =N42/O42 -> 189.83333
A43: 8 | B43: Terje Bondeli | C43: GJ | D43: 1114 | N43: =SUM(D43:M43) -> 1114 | O43: =COUNT(D43:M43)*6 -> 6 | P43: =N43/O43 -> 185.66667
A44: 9 | B44: Asbjørn Kampelien | C44: GJ | D44: 1110 | N44: =SUM(D44:M44) -> 1110 | O44: =COUNT(D44:M44)*6 -> 6 | P44: =N44/O44 -> 185
A45: 10 | B45: Arild Lunde | C45: GJ | D45: 1090 | N45: =SUM(D45:M45) -> 1090 | O45: =COUNT(D45:M45)*6 -> 6 | P45: =N45/O45 -> 181.66667
A46: 11 | B46: Paul Dahl | C46: GJ | D46: 1088 | N46: =SUM(D46:M46) -> 1088 | O46: =COUNT(D46:M46)*6 -> 6 | P46: =N46/O46 -> 181.33333
A47: 12 | B47: Inge Hamnes | C47: S | D47: 1082 | N47: =SUM(D47:M47) -> 1082 | O47: =COUNT(D47:M47)*6 -> 6 | P47: =N47/O47 -> 180.33333
... A55: 20 | B55: Roger Eng | C55: GJ | D55: 868 | N55: =SUM(D55:M55) -> 868 | O55: =COUNT(D55:M55)*6 -> 6 | P55: =N55/O55 -> 144.66667
B57: KONGSVINGER
A59: 1 | B59: Magnus Johansson | C59: GL | D59: 1225 | N59: =SUM(D59:M59) -> 1225 | O59: =COUNT(D59:M59)*6 -> 6 | P59: =N59/O59 -> 204.16667
A60: 2 | B60: Geyr Nerdrum | C60: GL | D60: 1115 | N60: =SUM(D60:M60) -> 1115 | O60: =COUNT(D60:M60)*6 -> 6 | P60: =N60/O60 -> 185.83333
A61: 3 | B61: Bjørn Arild Olsen | C61: GL | D61: 1099 | N61: =SUM(D61:M61) -> 1099 | O61: =COUNT(D61:M61)*6 -> 6 | P61: =N61/O61 -> 183.16667
A62: 4 | B62: Stein Erik Rugsveen | C62: GL | D62: 1092 | N62: =SUM(D62:M62) -> 1092 | O62: =COUNT(D62:M62)*6 -> 6 | P62: =N62/O62 -> 182
A63: 5 | B63: Tommy Brattbo | C63: GL | D63: 1088 | N63: =SUM(D63:M63) -> 1088 | O63: =COUNT(D63:M63)*6 -> 6 | P63: =N63/O63 -> 181.33333
A64: 6 | B64: Håvard Brandett | C64: GL | D64: 1070 | N64: =SUM(D64:M64) -> 1070 | O64: =COUNT(D64:M64)*6 -> 6 | P64: =N64/O64 -> 178.33333
A65: 7 | B65: Svein Bakken | C65: GL | D65: 1053 | N65: =SUM(D65:M65) -> 1053 | O65: =COUNT(D65:M65)*6 -> 6 | P65: =N65/O65 -> 175.5
A66: 8 | B66: Johan Helland | C66: GL | D66: 1048 | N66: =SUM(D66:M66) -> 1048 | O66: =COUNT(D66:M66)*6 -> 6 | P66: =N66/O66 -> 174.66667
A67: 9 | B67: Kjell Holthe | C67: GL | D67: 1048 | N67: =SUM(D67:M67) -> 1048 | O67: =COUNT(D67:M67)*6 -> 6 | P67: =N67/O67 -> 174.66667
A68: 10 | B68: Eddy Eriksen | C68: GL | D68: 963 | N68: =SUM(D68:M68) -> 963 | O68: =COUNT(D68:M68)*6 -> 6 | P68: =N68/O68 -> 160.5
A69: 11 | B69: Thomas Stenbråten | C69: GL | D69: 954 | N69: =SUM(D69:M69) -> 954 | O69: =COUNT(D69:M69)*6 -> 6 | P69: =N69/O69 -> 159
A70: 12 | B70: Bertil Blegeberg | C70: GL | D70: 915 | N70: =SUM(D70:M70) -> 915 | O70: =COUNT(D70:M70)*6 -> 6 | P70: =N70/O70 -> 152.5
... A72: 14 | B72: Helge Johansen | C72: GL | D72: 842 | N72: =SUM(D72:M72) -> 842 | O72: =COUNT(D72:M72)*6 -> 6 | P72: =N72/O72 -> 140.33333
B74: LILLEHAMMER
A76: 1 | B76: Andreas Forseth | C76: L | D76: 1163 | N76: =SUM(D76:M76) -> 1163 | O76: =COUNT(D76:M76)*6 -> 6 | P76: =N76/O76 -> 193.83333
A77: 2 | B77: Arild Larsen | C77: L | D77: 1081 | N77: =SUM(D77:M77) -> 1081 | O77: =COUNT(D77:M77)*6 -> 6 | P77: =N77/O77 -> 180.16667
B79: FLISA
A81: 1 | B81: Gjermund Mathiesen | C81: S | D81: 1276 | N81: =SUM(D81:M81) -> 1276 | O81: =COUNT(D81:M81)*6 -> 6 | P81: =N81/O81 -> 212.66667
A82: 2 | B82: Andreas Skoglund | C82: S | D82: 1232 | N82: =SUM(D82:M82) -> 1232 | O82: =COUNT(D82:M82)*6 -> 6 | P82: =N82/O82 -> 205.33333
A83: 3 | B83: Jan Cato Sparby | C83: S | D83: 1219 | N83: =SUM(D83:M83) -> 1219 | O83: =COUNT(D83:M83)*6 -> 6 | P83: =N83/O83 -> 203.16667
A84: 4 | B84: Henry Arnesen | C84: S | D84: 1201 | N84: =SUM(D84:M84) -> 1201 | O84: =COUNT(D84:M84)*6 -> 6 | P84: =N84/O84 -> 200.16667
A85: 5 | B85: Frode Vermund | C85: S | D85: 1198 | N85: =SUM(D85:M85) -> 1198 | O85: =COUNT(D85:M85)*6 -> 6 | P85: =N85/O85 -> 199.66667
A86: 6 | B86: Morten Botilsrud | C86: S | D86: 1191 | N86: =SUM(D86:M86) -> 1191 | O86: =COUNT(D86:M86)*6 -> 6 | P86: =N86/O86 -> 198.5
A87: 7 | B87: Per Kittelsen | C87: S | D87: 1151 | N87: =SUM(D87:M87) -> 1151 | O87: =COUNT(D87:M87)*6 -> 6 | P87: =N87/O87 -> 191.83333
A88: 8 | B88: Tore Fjeld | C88: S | D88: 1148 | N88: =SUM(D88:M88) -> 1148 | O88: =COUNT(D88:M88)*6 -> 6 | P88: =N88/O88 -> 191.33333
A89: 9 | B89: Geir Ronnie Dammen | C89: S | D89: 1113 | N89: =SUM(D89:M89) -> 1113 | O89: =COUNT(D89:M89)*6 -> 6 | P89: =N89/O89 -> 185.5
A90: 10 | B90: Helge Dammen | C90: S | D90: 1099 | N90: =SUM(D90:M90) -> 1099 | O90: =COUNT(D90:M90)*6 -> 6 | P90: =N90/O90 -> 183.16667
A91: 11 | B91: Jan Ivar Sparby | C91: S | D91: 1088 | N91: =SUM(D91:M91) -> 1088 | O91: =COUNT(D91:M91)*6 -> 6 | P91: =N91/O91 -> 181.33333
A92: 12 | B92: Ole Arne Frysjøenden | C92: S | D92: 1013 | N92: =SUM(D92:M92) -> 1013 | O92: =COUNT(D92:M92)*6 -> 6 | P92: =N92/O92 -> 168.83333
... A94: 14 | B94: Tore Meiningen | C94: S | D94: 996 | N94: =SUM(D94:M94) -> 996 | O94: =COUNT(D94:M94)*6 -> 6 | P94: =N94/O94 -> 166
B96: FAGERNES
A98: 1 | B98: Roger Johannessen | C98: Ha | D98: 1167 | N98: =SUM(D98:M98) -> 1167 | O98: =COUNT(D98:M98)*6 -> 6 | P98: =N98/O98 -> 194.5
A99: 2 | B99: Ivar Hamre | C99: V | D99: 1130 | N99: =SUM(D99:M99) -> 1130 | O99: =COUNT(D99:M99)*6 -> 6 | P99: =N99/O99 -> 188.33333
A100: 3 | B100: Inge Hådem | C100: V | D100: 1023 | N100: =SUM(D100:M100) -> 1023 | O100: =COUNT(D100:M100)*6 -> 6 | P100: =N100/O100 -> 170.5
A101: 4 | B101: Odd Arild Dokken | C101: V | D101: 1013 | N101: =SUM(D101:M101) -> 1013 | O101: =COUNT(D101:M101)*6 -> 6 | P101: =N101/O101 -> 168.83333
A102: 5 | B102: Nils Arne Jevne | C102: V | D102: 972 | N102: =SUM(D102:M102) -> 972 | O102: =COUNT(D102:M102)*6 -> 6 | P102: =N102/O102 -> 162
A103: 6 | B103: Thomas K. Hamre | C103: V | D103: 961 | N103: =SUM(D103:M103) -> 961 | O103: =COUNT(D103:M103)*6 -> 6 | P103: =N103/O103 -> 160.16667
A104: 7 | B104: Arild Strande | C104: V | D104: 949 | N104: =SUM(D104:M104) -> 949 | O104: =COUNT(D104:M104)*6 -> 6 | P104: =N104/O104 -> 158.16667
A105: 8 | B105: Arne Sørumshagen | C105: V | D105: 830 | N105: =SUM(D105:M105) -> 830 | O105: =COUNT(D105:M105)*6 -> 6 | P105: =N105/O105 -> 138.33333
B112: Forkortelser klubb:
B113: B=Bekkelaget | C113: BR=Briskebyen | F113: E=Elverum | H113: GJ=Gjøvik | J113: GL=Glåmdal | L113: L=Lillehammer
B115: S=Solør | C115: V=Valdres

Sheet T.L kvinner
A1: 5´cup 2010-11 | H1: Damer:
B2: Navn | C2: Klubb | D2: Aug. | E2: Sept. | F2: Okt. | G2: Nov. | H2: Des. | I2: Jan. | J2: Febr. | K2: Mars | L2: April | M2: Mai | N2: Sum | O2: Serier | P2: Snitt
B3: HAMAR
A5: 1 | B5: Berit W Olsen | C5: BR | D5: 958 | N5: =SUM(D5:M5) -> 958 | O5: =COUNT(D5:M5)*6 -> 6 | P5: =N5/O5 -> 159.66667
A6: 2 | B6: Mette Snuggerud | C6: GJ | D6: 1084 | N6: =SUM(D6:M6) -> 1084 | O6: =COUNT(D6:M6)*6 -> 6 | P6: =N6/O6 -> 180.66667
B8: ELVERUM
A10: 1 | B10: Mona L. Galåen | C10: E | D10: 926 | N10: =SUM(D10:M10) -> 926 | O10: =COUNT(D10:M10)*6 -> 6 | P10: =N10/O10 -> 154.33333
A11: 2 | B11: Mette Braanaas | C11: E | D11: 912 | N11: =SUM(D11:M11) -> 912 | O11: =COUNT(D11:M11)*6 -> 6 | P11: =N11/O11 -> 152
A12: 3 | B12: Berit Sletmoen | C12: E | D12: 833 | N12: =SUM(D12:M12) -> 833 | O12: =COUNT(D12:M12)*6 -> 6 | P12: =N12/O12 -> 138.83333
B14: GJØVIK
A16: 1 | B16: Camilla Berg Olsen | C16: GJ | D16: 1235 | N16: =SUM(D16:M16) -> 1235 | O16: =COUNT(D16:M16)*6 -> 6 | P16: =N16/O16 -> 205.83333
A17: 2 | B17: Grace Torgeirson | C17: GJ | D17: 1175 | N17: =SUM(D17:M17) -> 1175 | O17: =COUNT(D17:M17)*6 -> 6 | P17: =N17/O17 -> 195.83333
A18: 3 | B18: Lillian Larsen | C18: GJ | D18: 1150 | N18: =SUM(D18:M18) -> 1150 | O18: =COUNT(D18:M18)*6 -> 6 | P18: =N18/O18 -> 191.66667
A19: 4 | B19: Katrin Storhaugstuen | C19: GJ | D19: 1083 | N19: =SUM(D19:M19) -> 1083 | O19: =COUNT(D19:M19)*6 -> 6 | P19: =N19/O19 -> 180.5
A20: 5 | B20: Turid-Lise Øvstegaard | C20: B | D20: 1047 | N20: =SUM(D20:M20) -> 1047 | O20: =COUNT(D20:M20)*6 -> 6 | P20: =N20/O20 -> 174.5
A21: 6 | B21: Sara Lindstad | C21: GJ | D21: 1046 | N21: =SUM(D21:M21) -> 1046 | O21: =COUNT(D21:M21)*6 -> 6 | P21: =N21/O21 -> 174.33333
A22: 7 | B22: Line Søhagen | C22: GJ | D22: 1017 | N22: =SUM(D22:M22) -> 1017 | O22: =COUNT(D22:M22)*6 -> 6 | P22: =N22/O22 -> 169.5
A23: 8 | B23: Inger-Lise Eng | C23: GJ | D23: 984 | N23: =SUM(D23:M23) -> 984 | O23: =COUNT(D23:M23)*6 -> 6 | P23: =N23/O23 -> 164
B25: KONGSVINGER
A27: 1 | B27: Grethe B Bergersen | C27: GL | D27: 1134 | N27: =SUM(D27:M27) -> 1134 | O27: =COUNT(D27:M27)*6 -> 6 | P27: =N27/O27 -> 189
A28: 2 | B28: Anita Hagen | C28: GL | D28: 1005 | N28: =SUM(D28:M28) -> 1005 | O28: =COUNT(D28:M28)*6 -> 6 | P28: =N28/O28 -> 167.5
A29: 3 | B29: Mona Danielsen | C29: GL | D29: 986 | N29: =SUM(D29:M29) -> 986 | O29: =COUNT(D29:M29)*6 -> 6 | P29: =N29/O29 -> 164.33333
A30: 4 | B30: Birgitt Blegeberg | C30: GL | D30: 881 | N30: =SUM(D30:M30) -> 881 | O30: =COUNT(D30:M30)*6 -> 6 | P30: =N30/O30 -> 146.83333
A31: 5 | B31: Ida Mellem | C31: GL | D31: 878 | N31: =SUM(D31:M31) -> 878 | O31: =COUNT(D31:M31)*6 -> 6 | P31: =N31/O31 -> 146.33333
A32: 6 | B32: Jorunn Jusnes | C32: GL | D32: 859 | N32: =SUM(D32:M32) -> 859 | O32: =COUNT(D32:M32)*6 -> 6 | P32: =N32/O32 -> 143.16667
A33: 7 | B33: Anne Grete Kristoffersen | C33: GL | D33: 846 | N33: =SUM(D33:M33) -> 846 | O33: =COUNT(D33:M33)*6 -> 6 | P33: =N33/O33 -> 141
A34: 8 | B34: Liv S Engom | C34: GL | D34: 784 | N34: =SUM(D34:M34) -> 784 | O34: =COUNT(D34:M34)*6 -> 6 | P34: =N34/O34 -> 130.66667
B36: FLISA
A38: 1 | B38: Mariann Groven | C38: S | D38: 1075
A39: 2 | B39: Toril Dammen | C39: S | D39: 1036 | N39: =SUM(D39:M39) -> 1036 | O39: =COUNT(D39:M39)*6 -> 6 | P39: =N39/O39 -> 172.66667
A40: 3 | B40: Gerd Brandett | C40: S | D40: 1010 | N40: =SUM(D40:M40) -> 1010 | O40: =COUNT(D40:M40)*6 -> 6 | P40: =N40/O40 -> 168.33333
B42: FAGERNES
A44: 1 | B44: Astrid Andersen | C44: V | D44: 962 | N44: =SUM(D44:M44) -> 962 | O44: =COUNT(D44:M44)*6 -> 6 | P44: =N44/O44 -> 160.33333
A45: 2 | B45: Randi Flagget | C45: V | D45: 827 | N45: =SUM(D45:M45) -> 827 | O45: =COUNT(D45:M45)*6 -> 6 | P45: =N45/O45 -> 137.83333

Sheet T.L junior
A1: 5´cup 2010-11 | H1: Junior:
B2: Navn | C2: Klubb | D2: Aug. | E2: Sept. | F2: Okt. | G2: Nov. | H2: Des. | I2: Jan. | J2: Febr. | K2: Mars | L2: April | M2: Mai | N2: Sum | O2: Serier | P2: Snitt
A3: 1 | B3: Dennis Olastuen | C3: E | D3: 995 | N3: =SUM(D3:M3) -> 995 | O3: =COUNT(D3:M3)*6 -> 6 | P3: =N3/O3 -> 165.83333
A4: 2 | B4: Marius S Myrberget | C4: E | D4: 917 | N4: =SUM(D4:M4) -> 917 | O4: =COUNT(D4:M4)*6 -> 6 | P4: =N4/O4 -> 152.83333
A5: 3 | B5: Haakon Karset | C5: BR | D5: 891 | N5: =SUM(D5:M5) -> 891 | O5: =COUNT(D5:M5)*6 -> 6 | P5: =N5/O5 -> 148.5
B10: BU13
B11: Jens Mathiesen | C11: S | D11: 930
A14: Klasse B u-11
B15: Jonas Dammen | C15: S | D15: 832

Sheet 6 beste menn
A1: 5´cup 2009-2010 | G1: Herrer | J1: 6 beste
B2: Navn | C2: Klubb | D2: 1 | E2: 2 | F2: 3 | G2: 4 | H2: 5 | I2: 6 | J2: Sum | K2: Serier | L2: Snitt
A3: 1 | B3: Bjørn Einar Rudshagen | C3: S | D3: 1517 | E3: 1503 | F3: 1501 | G3: 1479 | H3: 1448 | I3: 1384 | J3: =SUM(D3:I3) -> 8832 | K3: =COUNT(D3:I3)*6 -> 36 | L3: =J3/K3 -> 245.33333
A4: 2 | B4: Stian Olsen | C4: BR | D4: 1497 | E4: 1497 | F4: 1467 | G4: 1454 | H4: 1452 | I4: 1420 | J4: =SUM(D4:I4) -> 8787 | K4: =COUNT(D4:I4)*6 -> 36 | L4: =J4/K4 -> 244.08333
A5: 3 | B5: Christer Aker | C5: BR | D5: 1536 | E5: 1488 | F5: 1455 | G5: 1436 | H5: 1365 | I5: 1357 | J5: =SUM(D5:I5) -> 8637 | K5: =COUNT(D5:I5)*6 -> 36 | L5: =J5/K5 -> 239.91667
A6: 4 | B6: Gjermund Mathiesen | C6: S | D6: 1498 | E6: 1464 | F6: 1460 | G6: 1433 | H6: 1384 | I6: 1372 | J6: =SUM(D6:I6) -> 8611 | K6: =COUNT(D6:I6)*6 -> 36 | L6: =J6/K6 -> 239.19444
A7: 5 | B7: Erland Lund | C7: BR | D7: 1465 | E7: 1464 | F7: 1432 | G7: 1427 | H7: 1411 | I7: 1376 | J7: =SUM(D7:I7) -> 8575 | K7: =COUNT(D7:I7)*6 -> 36 | L7: =J7/K7 -> 238.19444
A8: 6 | B8: Tor Inge Jansen | C8: BR | D8: 1605 | E8: 1505 | F8: 1450 | G8: 1345 | H8: 1334 | I8: 1322 | J8: =SUM(D8:I8) -> 8561 | K8: =COUNT(D8:I8)*6 -> 36 | L8: =J8/K8 -> 237.80556
A9: 7 | B9: Jan Cato Sparby | C9: S | D9: 1484 | E9: 1465 | F9: 1439 | G9: 1400 | H9: 1392 | I9: 1369 | J9: =SUM(D9:I9) -> 8549 | K9: =COUNT(D9:I9)*6 -> 36 | L9: =J9/K9 -> 237.47222
A10: 8 | B10: Sean M. Hustveit | C10: BR | D10: 1477 | E10: 1452 | F10: 1397 | G10: 1379 | H10: 1364 | I10: 1345 | J10: =SUM(D10:I10) -> 8414 | K10: =COUNT(D10:I10)*6 -> 36 | L10: =J10/K10 -> 233.72222
A11: 9 | B11: Tommy Johannessen | C11: GJ | D11: 1492 | E11: 1448 | F11: 1395 | G11: 1374 | H11: 1370 | I11: 1334 | J11: =SUM(D11:I11) -> 8413 | K11: =COUNT(D11:I11)*6 -> 36 | L11: =J11/K11 -> 233.69444
A12: 10 | B12: Tron August Bråten | C12: BR | D12: 1473 | E12: 1466 | F12: 1389 | G12: 1373 | H12: 1347 | I12: 1343 | J12: =SUM(D12:I12) -> 8391 | K12: =COUNT(D12:I12)*6 -> 36 | L12: =J12/K12 -> 233.08333
A13: 11 | B13: John Fossum | C13: BR | D13: 1405 | E13: 1403 | F13: 1388 | G13: 1378 | H13: 1367 | I13: 1312 | J13: =SUM(D13:I13) -> 8253 | K13: =COUNT(D13:I13)*6 -> 36 | L13: =J13/K13 -> 229.25
A14: 12 | B14: Roger Johannessen | C14: Ha | D14: 1495 | E14: 1367 | F14: 1366 | G14: 1366 | H14: 1326 | I14: 1282 | J14: =SUM(D14:I14) -> 8202 | K14: =COUNT(D14:I14)*6 -> 36 | L14: =J14/K14 -> 227.83333
... A90: 88 | B90: Arne Sørumshagen | C90: V | D90: 1096 | E90: 972 | F90: 924 | G90: 923 | H90: 922 | I90: 911 | J90: =SUM(D90:I90) -> 5748 | K90: =COUNT(D90:I90)*6 -> 36 | L90: =J90/K90 -> 159.66667
B92: Tommy Gundersen | C92: GL | D92: 1385 | E92: 1345 | J92: =SUM(D92:I92) -> 2730 | K92: =COUNT(D92:I92)*6 -> 12 | L92: =J92/K92 -> 227.5
B93: Geir Beck | C93: S | D93: 1428 | E93: 1279 | J93: =SUM(D93:I93) -> 2707 | K93: =COUNT(D93:I93)*6 -> 12 | L93: =J93/K93 -> 225.58333
B94: Øyvind Skoglund | C94: GJ | D94: 1504 | E94: 1345 | F94: 1340 | G94: 1270 | H94: 1263 | J94: =SUM(D94:I94) -> 6722 | K94: =COUNT(D94:I94)*6 -> 30 | L94: =J94/K94 -> 224.06667
B95: Fredrick H Åsheim | C95: GJ | D95: 1371 | E95: 1355 | F95: 1311 | G95: 1271 | J95: =SUM(D95:I95) -> 5308 | K95: =COUNT(D95:I95)*6 -> 24 | L95: =J95/K95 -> 221.16667
B96: Daniel Gausetvik | C96: GJ | D96: 1466 | E96: 1349 | F96: 1239 | G96: 1215 | H96: 1156 | J96: =SUM(D96:I96) -> 6425 | K96: =COUNT(D96:I96)*6 -> 30 | L96: =J96/K96 -> 214.16667
B97: Lars Perry Øie | C97: BR | D97: 1285 | J97: =SUM(D97:I97) -> 1285 | K97: =COUNT(D97:I97)*6 -> 6 | L97: =J97/K97 -> 214.16667
B98: Vegar Frøhaug | C98: BR | D98: 1367 | E98: 1155 | J98: =SUM(D98:I98) -> 2522 | K98: =COUNT(D98:I98)*6 -> 12 | L98: =J98/K98 -> 210.16667
B99: Leif Ingjer | C99: HA | D99: 1329 | E99: 1245 | F99: 1245 | G99: 1224 | J99: =SUM(D99:I99) -> 5043 | K99: =COUNT(D99:I99)*6 -> 24 | L99: =J99/K99 -> 210.125
B100: Torleif Strandvik | C100: GJ | D100: 1254 | E100: 1252 | J100: =SUM(D100:I100) -> 2506 | K100: =COUNT(D100:I100)*6 -> 12 | L100: =J100/K100 -> 208.83333
B101: Magnus Johansson | C101: GL | D101: 1244 | J101: =SUM(D101:I101) -> 1244 | K101: =COUNT(D101:I101)*6 -> 6 | L101: =J101/K101 -> 207.33333
B102: Thorbjørn Dahle | C102: GJ | D102: 1251 | E102: 1231 | J102: =SUM(D102:I102) -> 2482 | K102: =COUNT(D102:I102)*6 -> 12 | L102: =J102/K102 -> 206.83333
B103: Kåre Løkken | C103: GJ | D103: 1229 | J103: =SUM(D103:I103) -> 1229 | K103: =COUNT(D103:I103)*6 -> 6 | L103: =J103/K103 -> 204.83333
B104: Bjørn Helge Sebuseter | C104: S | D104: 1298 | E104: 1270 | F104: 1215 | G104: 1106 | J104: =SUM(D104:I104) -> 4889 | K104: =COUNT(D104:I104)*6 -> 24 | L104: =J104/K104 -> 203.70833
B105: Håkon Sagerud | C105: S | D105: 1216 | J105: =SUM(D105:I105) -> 1216 | K105: =COUNT(D105:I105)*6 -> 6 | L105: =J105/K105 -> 202.66667
B106: Helge Engen | C106: GJ | D106: 1229 | E106: 1201 | J106: =SUM(D106:I106) -> 2430 | K106: =COUNT(D106:I106)*6 -> 12 | L106: =J106/K106 -> 202.5
B107: Frode Vermund | C107: S | D107: 1210 | J107: =SUM(D107:I107) -> 1210 | K107: =COUNT(D107:I107)*6 -> 6 | L107: =J107/K107 -> 201.66667
B108: Asbjørn Kampelien | C108: GJ | D108: 1285 | E108: 1207 | F108: 1198 | G108: 1153 | H108: 1125 | J108: =SUM(D108:I108) -> 5968 | K108: =COUNT(D108:I108)*6 -> 30 | L108: =J108/K108 -> 198.93333
B109: Rune Gullberg | C109: GJ | D109: 1307 | E109: 1237 | F109: 1197 | G109: 1161 | H109: 1033 | J109: =SUM(D109:I109) -> 5935 | K109: =COUNT(D109:I109)*6 -> 30 | L109: =J109/K109 -> 197.83333
B110: Egil Egeberg | C110: XXX | D110: 1256 | E110: 1235 | F110: 1200 | G110: 1054 | J110: =SUM(D110:I110) -> 4745 | K110: =COUNT(D110:I110)*6 -> 24 | L110: =J110/K110 -> 197.70833
B111: Vilhelm Johansen | C111: E | D111: 1342 | E111: 1214 | F111: 1110 | G111: 1075 | J111: =SUM(D111:I111) -> 4741 | K111: =COUNT(D111:I111)*6 -> 24 | L111: =J111/K111 -> 197.54167
B112: John Bang Olsen | C112: HA | D112: 1204 | E112: 1202 | F112: 1149 | J112: =SUM(D112:I112) -> 3555 | K112: =COUNT(D112:I112)*6 -> 18 | L112: =J112/K112 -> 197.5
B113: Espen R Sand | C113: GJ | D113: 1243 | E113: 1198 | F113: 1162 | G113: 1136 | J113: =SUM(D113:I113) -> 4739 | K113: =COUNT(D113:I113)*6 -> 24 | L113: =J113/K113 -> 197.45833
B114: Helge Olsen | C114: BR | D114: 1207 | E114: 1171 | F114: 1156 | J114: =SUM(D114:I114) -> 3534 | K114: =COUNT(D114:I114)*6 -> 18 | L114: =J114/K114 -> 196.33333
B115: Anders Ring | C115: GL | D115: 1176 | J115: =SUM(D115:I115) -> 1176 | K115: =COUNT(D115:I115)*6 -> 6 | L115: =J115/K115 -> 196
B116: Odd Steinar Nymoen | C116: L | D116: 1192 | E116: 1148 | J116: =SUM(D116:I116) -> 2340 | K116: =COUNT(D116:I116)*6 -> 12 | L116: =J116/K116 -> 195
B117: Rune Smedhaugen | C117: GJ | D117: 1155 | J117: =SUM(D117:I117) -> 1155 | K117: =COUNT(D117:I117)*6 -> 6 | L117: =J117/K117 -> 192.5
B118: Rolf A. Rønning | C118: HE | D118: 1335 | E118: 1195 | F118: 1169 | G118: 1085 | H118: 967 | J118: =SUM(D118:I118) -> 5751 | K118: =COUNT(D118:I118)*6 -> 30 | L118: =J118/K118 -> 191.7
B119: Bjørn Kjetil Sagerud | C119: S | D119: 1224 | E119: 1162 | F119: 1061 | J119: =SUM(D119:I119) -> 3447 | K119: =COUNT(D119:I119)*6 -> 18 | L119: =J119/K119 -> 191.5
B120: Inge Hamnes | C120: S | D120: 1231 | E120: 1122 | F120: 1093 | J120: =SUM(D120:I120) -> 3446 | K120: =COUNT(D120:I120)*6 -> 18 | L120: =J120/K120 -> 191.44444
B121: Kent Magne Høgsveen | C121: BR | D121: 1346 | E121: 1179 | F121: 1102 | G121: 1085 | H121: 1024 | J121: =SUM(D121:I121) -> 5736 | K121: =COUNT(D121:I121)*6 -> 30 | L121: =J121/K121 -> 191.2
B122: Ole Jonny Nordeng | C122: E | D122: 1244 | E122: 1109 | F122: 1079 | J122: =SUM(D122:I122) -> 3432 | K122: =COUNT(D122:I122)*6 -> 18 | L122: =J122/K122 -> 190.66667
B123: Rune Martinsen | C123: GJ | D123: 1175 | E123: 1096 | J123: =SUM(D123:I123) -> 2271 | K123: =COUNT(D123:I123)*6 -> 12 | L123: =J123/K123 -> 189.25
B124: Mads Ekern | C124: GJ | D124: 1135 | J124: =SUM(D124:I124) -> 1135 | K124: =COUNT(D124:I124)*6 -> 6 | L124: =J124/K124 -> 189.16667
B125: Bertil Blegeberg | C125: GL | D125: 1208 | E125: 1111 | F125: 1049 | J125: =SUM(D125:I125) -> 3368 | K125: =COUNT(D125:I125)*6 -> 18 | L125: =J125/K125 -> 187.11111
B126: Tom Beck | C126: S | D126: 1180 | E126: 1118 | F126: 1067 | J126: =SUM(D126:I126) -> 3365 | K126: =COUNT(D126:I126)*6 -> 18 | L126: =J126/K126 -> 186.94444
B127: Nils Nesmoen | C127: S | D127: 1232 | E127: 1147 | F127: 1108 | G127: 1069 | H127: 1047 | J127: =SUM(D127:I127) -> 5603 | K127: =COUNT(D127:I127)*6 -> 30 | L127: =J127/K127 -> 186.76667
B128: Gunnar Jan Hansen | C128: GJ | D128: 1181 | E128: 1121 | F128: 1053 | J128: =SUM(D128:I128) -> 3355 | K128: =COUNT(D128:I128)*6 -> 18 | L128: =J128/K128 -> 186.38889
B129: Bjørn W. Solberg | C129: BR | D129: 1144 | E129: 1138 | F129: 1121 | G129: 1108 | H129: 1036 | J129: =SUM(D129:I129) -> 5547 | K129: =COUNT(D129:I129)*6 -> 30 | L129: =J129/K129 -> 184.9
B130: Morten Lillehovde | C130: B | D130: 1161 | E130: 1105 | F130: 1069 | G130: 1057 | J130: =SUM(D130:I130) -> 4392 | K130: =COUNT(D130:I130)*6 -> 24 | L130: =J130/K130 -> 183
B131: Thomas Einemo | C131: L | D131: 1181 | E131: 1070 | F131: 1042 | J131: =SUM(D131:I131) -> 3293 | K131: =COUNT(D131:I131)*6 -> 18 | L131: =J131/K131 -> 182.94444
B132: Ivar Emilsen | C132: B | D132: 1198 | E132: 1120 | F132: 1110 | G132: 1019 | H132: 1006 | J132: =SUM(D132:I132) -> 5453 | K132: =COUNT(D132:I132)*6 -> 30 | L132: =J132/K132 -> 181.76667
B133: Karl Kristoffersen | C133: E | D133: 1238 | E133: 1062 | F133: 1053 | G133: 1008 | J133: =SUM(D133:I133) -> 4361 | K133: =COUNT(D133:I133)*6 -> 24 | L133: =J133/K133 -> 181.70833
B134: Andreas Andersen | C134: GJ | D134: 1088 | J134: =SUM(D134:I134) -> 1088 | K134: =COUNT(D134:I134)*6 -> 6 | L134: =J134/K134 -> 181.33333
B135: Svein Bakken | C135: GL | D135: 1176 | E135: 1071 | F135: 1069 | G135: 1005 | J135: =SUM(D135:I135) -> 4321 | K135: =COUNT(D135:I135)*6 -> 24 | L135: =J135/K135 -> 180.04167
B136: Henning Rugsveen | C136: BR | D136: 1258 | E136: 1110 | F136: 1086 | G136: 974 | H136: 947 | J136: =SUM(D136:I136) -> 5375 | K136: =COUNT(D136:I136)*6 -> 30 | L136: =J136/K136 -> 179.16667
B137: Thor Olav Torsteinshaugen | C137: GJ | D137: 1116 | E137: 1007 | J137: =SUM(D137:I137) -> 2123 | K137: =COUNT(D137:I137)*6 -> 12 | L137: =J137/K137 -> 176.91667
B138: Arne Bråtelund | C138: B | D138: 1083 | E138: 1024 | J138: =SUM(D138:I138) -> 2107 | K138: =COUNT(D138:I138)*6 -> 12 | L138: =J138/K138 -> 175.58333
B139: Lars Ove Dahl | C139: E | D139: 1124 | E139: 1109 | F139: 1084 | G139: 995 | H139: 948 | J139: =SUM(D139:I139) -> 5260 | K139: =COUNT(D139:I139)*6 -> 30 | L139: =J139/K139 -> 175.33333
B140: John Arne Nordermoen | C140: GL | D140: 1046 | J140: =SUM(D140:I140) -> 1046 | K140: =COUNT(D140:I140)*6 -> 6 | L140: =J140/K140 -> 174.33333
B141: Jan Erik Nyhus | C141: L | D141: 1116 | E141: 1030 | F141: 1015 | G141: 1012 | J141: =SUM(D141:I141) -> 4173 | K141: =COUNT(D141:I141)*6 -> 24 | L141: =J141/K141 -> 173.875
B142: Christer Bekken | C142: S | D142: 1291 | E142: 1067 | F142: 956 | G142: 956 | H142: 927 | J142: =SUM(D142:I142) -> 5197 | K142: =COUNT(D142:I142)*6 -> 30 | L142: =J142/K142 -> 173.23333
B143: Sven Rune Hansen | C143: A | D143: 1039 | J143: =SUM(D143:I143) -> 1039 | K143: =COUNT(D143:I143)*6 -> 6 | L143: =J143/K143 -> 173.16667
B144: Jan Ivar Sparby | C144: S | D144: 1129 | E144: 1063 | F144: 988 | G144: 974 | J144: =SUM(D144:I144) -> 4154 | K144: =COUNT(D144:I144)*6 -> 24 | L144: =J144/K144 -> 173.08333
B145: Håkon Reum | C145: GL | D145: 1146 | E145: 1114 | F145: 1007 | G145: 962 | H145: 949 | J145: =SUM(D145:I145) -> 5178 | K145: =COUNT(D145:I145)*6 -> 30 | L145: =J145/K145 -> 172.6
B146: Stian V Nikolaisen | C146: L | D146: 1091 | E146: 1008 | F146: 1004 | J146: =SUM(D146:I146) -> 3103 | K146: =COUNT(D146:I146)*6 -> 18 | L146: =J146/K146 -> 172.38889
B147: Arne Myhre | C147: V | D147: 1072 | E147: 992 | F147: 983 | J147: =SUM(D147:I147) -> 3047 | K147: =COUNT(D147:I147)*6 -> 18 | L147: =J147/K147 -> 169.27778
B148: Thomas K. Hamre | C148: V | D148: 1050 | E148: 1015 | F148: 972 | J148: =SUM(D148:I148) -> 3037 | K148: =COUNT(D148:I148)*6 -> 18 | L148: =J148/K148 -> 168.72222
B149: Joakim Norshus | C149: L | D149: 1006 | J149: =SUM(D149:I149) -> 1006 | K149: =COUNT(D149:I149)*6 -> 6 | L149: =J149/K149 -> 167.66667
B150: Roger Eng | C150: GJ | D150: 1040 | E150: 1013 | F150: 959 | J150: =SUM(D150:I150) -> 3012 | K150: =COUNT(D150:I150)*6 -> 18 | L150: =J150/K150 -> 167.33333
B151: Emil Myhre | C151: E | D151: 1100 | E151: 1071 | F151: 929 | G151: 915 | J151: =SUM(D151:I151) -> 4015 | K151: =COUNT(D151:I151)*6 -> 24 | L151: =J151/K151 -> 167.29167
B152: Egil D Pedersen | C152: E | D152: 1070 | E152: 999 | F152: 979 | G152: 926 | J152: =SUM(D152:I152) -> 3974 | K152: =COUNT(D152:I152)*6 -> 24 | L152: =J152/K152 -> 165.58333
B153: Arvid Fystro | C153: V | D153: 1027 | E153: 1006 | F153: 931 | J153: =SUM(D153:I153) -> 2964 | K153: =COUNT(D153:I153)*6 -> 18 | L153: =J153/K153 -> 164.66667
B154: Tom Thorsen | C154: GJ | D154: 967 | E154: 950 | J154: =SUM(D154:I154) -> 1917 | K154: =COUNT(D154:I154)*6 -> 12 | L154: =J154/K154 -> 159.75
B155: Henning Flyødegård | C155: L | D155: 951 | J155: =SUM(D155:I155) -> 951 | K155: =COUNT(D155:I155)*6 -> 6 | L155: =J155/K155 -> 158.5
B156: Bjørn Audun Oustad | C156: B | D156: 981 | E156: 961 | F156: 960 | G156: 881 | J156: =SUM(D156:I156) -> 3783 | K156: =COUNT(D156:I156)*6 -> 24 | L156: =J156/K156 -> 157.625
B157: Thomas Stenbråten | C157: GL | D157: 943 | J157: =SUM(D157:I157) -> 943 | K157: =COUNT(D157:I157)*6 -> 6 | L157: =J157/K157 -> 157.16667
B158: Shalaw Salem Mohamoud | C158: E | D158: 982 | E158: 938 | F158: 874 | G158: 830 | J158: =SUM(D158:I158) -> 3624 | K158: =COUNT(D158:I158)*6 -> 24 | L158: =J158/K158 -> 151
B159: Mats Finstad Hansen | C159: E | D159: 901 | E159: 866 | J159: =SUM(D159:I159) -> 1767 | K159: =COUNT(D159:I159)*6 -> 12 | L159: =J159/K159 -> 147.25
B160: Helge Johansen | C160: GL | D160: 899 | E160: 860 | F160: 848 | G160: 832 | H160: 797 | J160: =SUM(D160:I160) -> 4236 | K160: =COUNT(D160:I160)*6 -> 30 | L160: =J160/K160 -> 141.2
B161: Sigbjørn Nesset | C161: GL | D161: 831 | J161: =SUM(D161:I161) -> 831 | K161: =COUNT(D161:I161)*6 -> 6 | L161: =J161/K161 -> 138.5

Sheet 6 beste kvinner
A1: 5´cup 2009-2010 | G1: Damer | J1: 6 beste
B2: Navn | C2: Klubb | D2: 1 | E2: 2 | F2: 3 | G2: 4 | H2: 5 | I2: 6 | J2: Sum | K2: Serier | L2: Snitt
A3: 1 | B3: Grethe B Bergersen | C3: GL | D3: 1350 | E3: 1333 | F3: 1304 | G3: 1260 | H3: 1241 | I3: 1234 | J3: =SUM(D3:I3) -> 7722 | K3: =COUNT(D3:I3)*6 -> 36 | L3: =J3/K3 -> 214.5
A4: 2 | B4: Sara Lindstad | C4: GJ | D4: 1432 | E4: 1380 | F4: 1245 | G4: 1232 | H4: 1214 | I4: 1203 | J4: =SUM(D4:I4) -> 7706 | K4: =COUNT(D4:I4)*6 -> 36 | L4: =J4/K4 -> 214.05556
A5: 3 | B5: Grace Torgeirson | C5: GJ | D5: 1383 | E5: 1336 | F5: 1281 | G5: 1263 | H5: 1234 | I5: 1201 | J5: =SUM(D5:I5) -> 7698 | K5: =COUNT(D5:I5)*6 -> 36 | L5: =J5/K5 -> 213.83333
A6: 4 | B6: Lillian Larsen | C6: GJ | D6: 1358 | E6: 1304 | F6: 1275 | G6: 1274 | H6: 1254 | I6: 1201 | J6: =SUM(D6:I6) -> 7666 | K6: =COUNT(D6:I6)*6 -> 36 | L6: =J6/K6 -> 212.94444
A7: 5 | B7: Camilla Berg Olsen | C7: GJ | D7: 1319 | E7: 1295 | F7: 1255 | G7: 1244 | H7: 1239 | I7: 1172 | J7: =SUM(D7:I7) -> 7524 | K7: =COUNT(D7:I7)*6 -> 36 | L7: =J7/K7 -> 209
A8: 6 | B8: Gerd Brandett | C8: S | D8: 1400 | E8: 1234 | F8: 1232 | G8: 1217 | H8: 1206 | I8: 1181 | J8: =SUM(D8:I8) -> 7470 | K8: =COUNT(D8:I8)*6 -> 36 | L8: =J8/K8 -> 207.5
A9: 7 | B9: Anita Meiningen | C9: S | D9: 1269 | E9: 1264 | F9: 1200 | G9: 1191 | H9: 1183 | I9: 1105 | J9: =SUM(D9:I9) -> 7212 | K9: =COUNT(D9:I9)*6 -> 36 | L9: =J9/K9 -> 200.33333
A10: 8 | B10: Katrin Storhaugstuen | C10: GJ | D10: 1227 | E10: 1205 | F10: 1196 | G10: 1162 | H10: 1147 | I10: 1105 | J10: =SUM(D10:I10) -> 7042 | K10: =COUNT(D10:I10)*6 -> 36 | L10: =J10/K10 -> 195.61111
A11: 9 | B11: Turid-Lise Øvstegaard | C11: B | D11: 1239 | E11: 1236 | F11: 1162 | G11: 1160 | H11: 1126 | I11: 1116 | J11: =SUM(D11:I11) -> 7039 | K11: =COUNT(D11:I11)*6 -> 36 | L11: =J11/K11 -> 195.52778
A12: 10 | B12: Siri Kyseth Thorsen | C12: GJ | D12: 1250 | E12: 1168 | F12: 1162 | G12: 1154 | H12: 1101 | I12: 1081 | J12: =SUM(D12:I12) -> 6916 | K12: =COUNT(D12:I12)*6 -> 36 | L12: =J12/K12 -> 192.11111
A13: 11 | B13: Mette Snuggerud | C13: GJ | D13: 1207 | E13: 1149 | F13: 1131 | G13: 1113 | H13: 1087 | I13: 1080 | J13: =SUM(D13:I13) -> 6767 | K13: =COUNT(D13:I13)*6 -> 36 | L13: =J13/K13 -> 187.97222
A14: 12 | B14: Lisbeth Buserud | C14: GL | D14: 1222 | E14: 1114 | F14: 1109 | G14: 1029 | H14: 1000 | I14: 994 | J14: =SUM(D14:I14) -> 6468 | K14: =COUNT(D14:I14)*6 -> 36 | L14: =J14/K14 -> 179.66667
... A21: 19 | B21: Gunn Eli Lund | C21: GL | D21: 945 | E21: 945 | F21: 942 | G21: 941 | H21: 890 | I21: 885 | J21: =SUM(D21:I21) -> 5548 | K21: =COUNT(D21:I21)*6 -> 36 | L21: =J21/K21 -> 154.11111
B23: Lisa Bergersen | C23: S | D23: 1169 | E23: 1131 | F23: 1122 | G23: 1122 | H23: 1008 | J23: =SUM(D23:I23) -> 5552 | K23: =COUNT(D23:I23)*6 -> 30 | L23: =J23/K23 -> 185.06667
B24: Toril Dammen | C24: S | D24: 1248 | E24: 1094 | F24: 1033 | G24: 1026 | J24: =SUM(D24:I24) -> 4401 | K24: =COUNT(D24:I24)*6 -> 24 | L24: =J24/K24 -> 183.375
B25: Elin Mathiesen | C25: S | D25: 1187 | E25: 1095 | F25: 1042 | G25: 1039 | J25: =SUM(D25:I25) -> 4363 | K25: =COUNT(D25:I25)*6 -> 24 | L25: =J25/K25 -> 181.79167
B26: Inger-Lise Eng | C26: GJ | D26: 1106 | E26: 1042 | F26: 1038 | G26: 1010 | H26: 1003 | J26: =SUM(D26:I26) -> 5199 | K26: =COUNT(D26:I26)*6 -> 30 | L26: =J26/K26 -> 173.3
B27: Anne E. Lien | C27: E | D27: 1052 | E27: 1014 | F27: 1003 | G27: 981 | H27: 926 | J27: =SUM(D27:I27) -> 4976 | K27: =COUNT(D27:I27)*6 -> 30 | L27: =J27/K27 -> 165.86667
B28: Randi Hansen | C28: A | D28: 986 | J28: =SUM(D28:I28) -> 986 | K28: =COUNT(D28:I28)*6 -> 6 | L28: =J28/K28 -> 164.33333
B29: Berit Sletmoen | C29: E | D29: 985 | J29: =SUM(D29:I29) -> 985 | K29: =COUNT(D29:I29)*6 -> 6 | L29: =J29/K29 -> 164.16667
B30: Mona L. Galåen | C30: E | D30: 1054 | E30: 964 | F30: 957 | G30: 933 | J30: =SUM(D30:I30) -> 3908 | K30: =COUNT(D30:I30)*6 -> 24 | L30: =J30/K30 -> 162.83333
B31: May Kr Rossly | C31: GJ | D31: 974 | E31: 966 | F31: 951 | J31: =SUM(D31:I31) -> 2891 | K31: =COUNT(D31:I31)*6 -> 18 | L31: =J31/K31 -> 160.61111
B32: Veronica Øines | C32: E | D32: 953 | E32: 918 | F32: 893 | J32: =SUM(D32:I32) -> 2764 | K32: =COUNT(D32:I32)*6 -> 18 | L32: =J32/K32 -> 153.55556
B33: Berit W Olsen | C33: BR | D33: 985 | E33: 926 | F33: 885 | G33: 872 | J33: =SUM(D33:I33) -> 3668 | K33: =COUNT(D33:I33)*6 -> 24 | L33: =J33/K33 -> 152.83333
B34: Randi Flaget | C34: V | D34: 962 | E34: 867 | J34: =SUM(D34:I34) -> 1829 | K34: =COUNT(D34:I34)*6 -> 12 | L34: =J34/K34 -> 152.41667
B35: Jorunn Jusnes | C35: GL | D35: 911 | E35: 986 | F35: 932 | G35: 874 | H35: 811 | J35: =SUM(D35:I35) -> 4514 | K35: =COUNT(D35:I35)*6 -> 30 | L35: =J35/K35 -> 150.46667
B36: Anne Grete Kristoffersen | C36: GL | D36: 895 | J36: =SUM(D36:I36) -> 895 | K36: =COUNT(D36:I36)*6 -> 6 | L36: =J36/K36 -> 149.16667
B37: Liv S Engom | C37: GL | D37: 817 | E37: 744 | F37: 741 | G37: 652 | J37: =SUM(D37:I37) -> 2954 | K37: =COUNT(D37:I37)*6 -> 24 | L37: =J37/K37 -> 123.08333

Sheet 6 beste junior
A1: 5´cup 2009-2010 | G1: Junior: | J1: 6 beste
B2: Navn | C2: Klubb | D2: 1 | E2: 2 | F2: 3 | G2: 4 | H2: 5 | I2: 6 | J2: Sum | K2: Serier | L2: Snitt
A3: 1 | B3: Håkon Nerdrum | C3: GL | D3: 1385 | E3: 1372 | F3: 1359 | G3: 1344 | H3: 1340 | I3: 1335 | J3: =SUM(D3:I3) -> 8135 | K3: =COUNT(D3:I3)*6 -> 36 | L3: =J3/K3 -> 225.97222
A4: 2 | B4: Andreas Skoglund | C4: S | D4: 1340 | E4: 1335 | F4: 1332 | G4: 1297 | H4: 1294 | I4: 1290 | J4: =SUM(D4:I4) -> 7888 | K4: =COUNT(D4:I4)*6 -> 36 | L4: =J4/K4 -> 219.11111
A5: 3 | B5: Sigbjørn Eide | C5: HA | D5: 1320 | E5: 1155 | F5: 1120 | G5: 1109 | H5: 1084 | I5: 975 | J5: =SUM(D5:I5) -> 6763 | K5: =COUNT(D5:I5)*6 -> 36 | L5: =J5/K5 -> 187.86111
A6: 4 | B6: Vegard R Johansen | C6: BR | D6: 1207 | E6: 1151 | F6: 1144 | G6: 1103 | H6: 1007 | I6: 988 | J6: =SUM(D6:I6) -> 6600 | K6: =COUNT(D6:I6)*6 -> 36 | L6: =J6/K6 -> 183.33333
A7: 5 | B7: Rolf Helge Tollefsen | C7: E | D7: 1146 | E7: 1124 | F7: 1032 | G7: 1025 | H7: 935 | I7: 809 | J7: =SUM(D7:I7) -> 6071 | K7: =COUNT(D7:I7)*6 -> 36 | L7: =J7/K7 -> 168.63889
A8: 6 | B8: Sindre Køhl Berg | C8: E | D8: 1090 | E8: 835 | F8: 780 | G8: 763 | H8: 760 | I8: 703 | J8: =SUM(D8:I8) -> 4931 | K8: =COUNT(D8:I8)*6 -> 36 | L8: =J8/K8 -> 136.97222
A9: 7 | B9: Marius S Myrberget | C9: E | D9: 931 | E9: 882 | F9: 862 | G9: 824 | H9: 649 | I9: 620 | J9: =SUM(D9:I9) -> 4768 | K9: =COUNT(D9:I9)*6 -> 36 | L9: =J9/K9 -> 132.44444
B11: Julius E Hopka | C11: BR | D11: 1310 | J11: =SUM(D11:I11) -> 1310 | K11: =COUNT(D11:I11)*6 -> 6 | L11: =J11/K11 -> 218.33333
B12: Kim Robin Øverby | C12: GL | D12: 1156 | J12: =SUM(D12:I12) -> 1156 | K12: =COUNT(D12:I12)*6 -> 6 | L12: =J12/K12 -> 192.66667
B13: Petter Sveen | C13: GJ | D13: 1077 | E13: 1072 | F13: 1056 | J13: =SUM(D13:I13) -> 3205 | K13: =COUNT(D13:I13)*6 -> 18 | L13: =J13/K13 -> 178.05556
B14: Dennis Olastuen | C14: E | D14: 1018 | E14: 949 | F14: 947 | J14: =SUM(D14:I14) -> 2914 | K14: =COUNT(D14:I14)*6 -> 18 | L14: =J14/K14 -> 161.88889
B15: Steffen Mobakk | C15: S | D15: 986 | E15: 944 | F15: 940 | G15: 924 | H15: 906 | J15: =SUM(D15:I15) -> 4700 | K15: =COUNT(D15:I15)*6 -> 30 | L15: =J15/K15 -> 156.66667
B16: Espen L Olsen | C16: BR | D16: 886 | J16: =SUM(D16:I16) -> 886 | K16: =COUNT(D16:I16)*6 -> 6 | L16: =J16/K16 -> 147.66667
B17: Hanne B Buserud | C17: GL | D17: 905 | E17: 847 | F17: 736 | J17: =SUM(D17:I17) -> 2488 | K17: =COUNT(D17:I17)*6 -> 18 | L17: =J17/K17 -> 138.22222
B18: Ole Martin Gjerdet | C18: L | D18: 727 | J18: =SUM(D18:I18) -> 727 | K18: =COUNT(D18:I18)*6 -> 6 | L18: =J18/K18 -> 121.16667
B19: Jan Kristian Billerud | C19: GL | D19: 757 | E19: 727 | F19: 725 | G19: 716 | H19: 633 | J19: =SUM(D19:I19) -> 3558 | K19: =COUNT(D19:I19)*6 -> 30 | L19: =J19/K19 -> 118.6
B20: Joakim Frøsaker | C20: GJ | D20: 785 | E20: 764 | F20: 610 | G20: 571 | J20: =SUM(D20:I20) -> 2730 | K20: =COUNT(D20:I20)*6 -> 24 | L20: =J20/K20 -> 113.75
B21: Haakon Karset | C21: BR | D21: 536 | J21: =SUM(D21:I21) -> 536 | K21: =COUNT(D21:I21)*6 -> 6 | L21: =J21/K21 -> 89.333333
B24: BU13
B25: Jens Mathiesen | C25: S | E25: 829 | F25: 1028 | G25: 939 | H25: 901 | I25: 940 | J25: 982 | K25: 926 | L25: 853 | M25: 1091
B26: Lotte Eline G Engen | C26: GJ | F26: 734
B29: BU11
B30: Jonas Dammen | C30: S | K30: 863 | L30: 766 | M30: 1028

Sheet Oversikt økonomi
A1: Oversikt over 5´cupen 2009-2010
A2: Antall | D2: Totalt antall | G2: Turnerings | H2: Netto før | J2: Overskudd/ | K2: Ekstra pga
A3: deltagere: | B3: Totalt: | C3: Med 6+ | D3: turneringer | E3: Innbetalt | F3: Avgift NBF | G3: avgift | H3: premier | I3: Premier | J3: krus | K3: 10,- økning
A4: Herrer: | B4: =COUNT('T.L menn'!A5:A116) -> 83 | C4: =COUNT('6 beste menn'!A3:A222) -> 88 | D4: =COUNT('T.L menn'!D5:M154) -> 83 | E4: =D4*60 -> 4980 | F4: =D4*20 -> 1660 | H4: =E4-F4 -> 3320 | I4: =C32 -> 24300 | K4: =D4*10 -> 830
A5: Damer: | B5: =COUNT('T.L kvinner'!A5:A142) -> 26 | C5: =COUNT('6 beste kvinner'!A3:A44) -> 19 | D5: =COUNT('T.L kvinner'!D5:M59) -> 26 | E5: =D5*60 -> 1560 | F5: =D5*20 -> 520 | H5: =E5-F5 -> 1040 | I5: =F32 -> 5000 | K5: =D5*10 -> 260
A6: Junior: | B6: =COUNT('T.L junior'!A3:A103) -> 3 | C6: 15 | D6: =COUNT('T.L junior'!D3:M14) -> 4 | E6: =D6*30 -> 120 | F6: 0 | H6: =E6-F6 -> 120 | I6: =I32 -> 3100
A7: Sum: | B7: =SUM(B4:B6) -> 112 | C7: =SUM(C4:C6) -> 122 | D7: =SUM(D4:D6) -> 113 | E7: =SUM(E4:E6) -> 6660 | F7: =SUM(F4:F6) -> 2180 | G7: 1500 | H7: =SUM(H4:H6)-G7 -> 2980 | I7: =SUM(I4:I6)+C37 -> 42400 | J7: =H7-I7 -> -39420 | K7: =SUM(K4:K5) -> 1090
A10: Herrer: | E10: Damer: | H10: Junior:
A11: 1.premie | C11: 5500 | E11: 1.premie | F11: 2000 | H11: 1.premie | I11: 1500
A12: 2.premie | C12: 4000 | E12: 2.premie | F12: 1400 | H12: 2.premie | I12: 1000
A13: 3.premie | C13: 2500 | E13: 3.premie | F13: 800 | H13: 3.premie | I13: 600
A14: 4.premie | C14: 1500 | E14: 4.premie | F14: 400 | H14: Beste jente | I14: *400 | J14: ikke noen som er kvalifisert denne sesongen
A15: 5.premie | C15: 1200 | E15: 5.premie | F15: 400 | J15: Premiene justeres til våren
A16: 6.premie | C16: 1200 | J16: etter antall deltagere
A17: 7.premie | C17: 1000
A18: 8.premie | C18: 1000
A19: 9.premie | C19: 800
A20: 10.premie | C20: 800
A21: 11.premie | C21: 600
A22: 12.premie | C22: 600
A23: 13.premie | C23: 500
A24: 14.premie | C24: 500
A25: 15.premie | C25: 500
A26: 16.premie | C26: 500
A27: 17.premie | C27: 400
A28: 18.premie | C28: 400
... A30: 20.premie | C30: 400
A32: Samlet: | C32: =SUM(C11:C30) -> 24300 | F32: =SUM(F11:F31) -> 5000 | I32: =SUM(I11:I31) -> 3100
A37: Trekte premier | C37: 10000

Sheet Premieoversikt
A1: Premieoversikt 5 cup sesongen 2007-2008
A3: Herrer: | C3: Navn: | D3: Premie overføres til konto: | E3: Evt.merknader
A4: 1.premie | B4: 5500 | C4: Gjermund Mathiesen | D4: 1917 10 11461
A5: 2.premie | B5: 4000 | C5: Sean M. Hustveit | D5: 1822 19 04210
A6: 3.premie | B6: 2500 | C6: Christer Aker | D6: 1822 12 33316
A7: 3.premie | B7: 1500 | C7: Jan Cato Sparby
A8: 5.premie | B8: 1200 | C8: Stian Olsen | D8: 2050 04 72503
A9: 6.premie | B9: 1200 | C9: John Fossum | D9: 9713 17 71189
A10: 7.premie | B10: 1000 | C10: Tor Inge Jansen | D10: 1440.16.88871 | E10: kontrollert
A11: 8.premie | B11: 1000 | C11: Erland Lund | D11: 1865 11 51763
A12: 9.premie | B12: 800 | C12: Tommy Johannessen | D12: 6179 10 71649 | E12: kontrollert
A13: 10.premie | B13: 800 | C13: Kyrre Kleverud
A14: 11.premie | B14: 600 | C14: Morten Botilsrud
A15: 12.premie | B15: 600 | C15: Knut Atle Skoglund
A16: 13.premie | B16: 500 | C16: Bjørn Lindstad
A17: 14.premie | B17: 500 | C17: Geir Ståle Kristiansen | D17: 1201 06 69985
A18: 15.premie | B18: 500 | C18: Håvard Haugen
A19: 16.premie | B19: 500 | C19: Hallgeir Lønstad | D19: 2010 13 03374 | E19: kontrollert
A20: 17.premie | B20: 400 | C20: Thore Liberg | D20: 1822 26 16154
A21: 18.premie | B21: 400 | C21: Arne Rui | D21: 0530 82 61281 | E21: kontrollert
A22: 19.premie | B22: 400 | C22: Torleif Strandvik
A23: 20.premie | B23: 400 | C23: Bjørn F Svendby | D23: 1822 09 15707 | E23: kontrollert
A25: Damer:
A26: 1.premie | B26: 2000 | C26: Camilla Berg Olsen
A27: 2.premie | B27: 1400 | C27: Grace Torgeirson | D27: 1604 05 18995
A28: 3.premie | B28: 800 | C28: Gerd Brandett
A29: 4.premie | B29: 400 | C29: Lillian Larsen | D29: 0534 66 24738 | E29: kontrollert
A30: 5.premie | B30: 400 | C30: Turid-Lise Øvstegaard
A32: Junior:
A33: 1.premie | B33: 1500 | C33: Andreas Skoglund | D33: 1822.21.35164 | E33: kontrollert
A34: 2.premie | B34: 1000 | C34: Fredrick Åsheim | D34: 1604 13 99477
A35: 3.premie | B35: 600 | C35: Håkon Nerdrum | D35: 1822.22.54147 | E35: kontrollert
A36: beste jente | B36: 400 | C36: Anne-Mette Bjørsland

Sheet Ark1
