Workbook

Sheet T.L menn
A1: 5´cup 2010-11 | H1: Herrer:
A2: Nr | B2: Navn | C2: Klubb | D2: Aug. | E2: Sept. | F2: Okt. | G2: Nov. | H2: Des. | I2: Jan. | J2: Febr. | K2: Mars | L2: April | M2: Mai | N2: Sum | O2: Serier | P2: Snitt
B3: HAMAR
A5: 1 | B5: Stian Olsen | C5: BR | D5: 1434 | N5: =SUM(D5:M5) -> 1434 | O5: =COUNT(D5:M5)*6 -> 6 | P5: =N5/O5 -> 239
A6: 2 | B6: Tor Inge Jansen | C6: BR | D6: 1384 | N6: =SUM(D6:M6) -> 1384 | O6: =COUNT(D6:M6)*6 -> 6 | P6: =N6/O6 -> 230.66667
A7: 3 | B7: Erland Lund | C7: BR | D7: 1381 | N7: =SUM(D7:M7) -> 1381 | O7: =COUNT(D7:M7)*6 -> 6 | P7: =N7/O7 -> 230.16667
A8: 4 | B8: Odd G. Kaspersen | C8: B | D8: 1362 | N8: =SUM(D8:M8) -> 1362 | O8: =COUNT(D8:M8)*6 -> 6 | P8: =N8/O8 -> 227
A9: 5 | B9: Christer Aker | C9: BR | D9: 1356 | N9: =SUM(D9:M9) -> 1356 | O9: =COUNT(D9:M9)*6 -> 6 | P9: =N9/O9 -> 226
A10: 6 | B10: Pål S. Romskaug | C10: B | D10: 1322 | N10: =SUM(D10:M10) -> 1322 | O10: =COUNT(D10:M10)*6 -> 6 | P10: =N10/O10 -> 220.33333
A11: 7 | B11: Sean M. Hustveit | C11: BR | D11: 1308 | N11: =SUM(D11:M11) -> 1308 | O11: =COUNT(D11:M11)*6 -> 6 | P11: =N11/O11 -> 218
A12: 8 | B12: Tron Bråten | C12: BR | D12: 1254 | N12: =SUM(D12:M12) -> 1254 | O12: =COUNT(D12:M12)*6 -> 6 | P12: =N12/O12 -> 209
A13: 9 | B13: Thore Liberg | C13: BR | D13: 1218 | N13: =SUM(D13:M13) -> 1218 | O13: =COUNT(D13:M13)*6 -> 6 | P13: =N13/O13 -> 203
A14: 10 | B14: Arne Svein Strøm | C14: BR | D14: 1196 | N14: =SUM(D14:M14) -> 1196 | O14: =COUNT(D14:M14)*6 -> 6 | P14: =N14/O14 -> 199.33333
A15: 11 | B15: Lars A. Granheim | C15: BR | D15: 1183 | N15: =SUM(D15:M15) -> 1183 | O15: =COUNT(D15:M15)*6 -> 6 | P15: =N15/O15 -> 197.16667
A16: 12 | B16: Henning Olsen | C16: BR | D16: 1140 | N16: =SUM(D16:M16) -> 1140 | O16: =COUNT(D16:M16)*6 -> 6 | P16: =N16/O16 -> 190
... A18: 14 | B18: Sindre Dahlen | C18: BR | D18: 1094 | N18: =SUM(D18:M18) -> 1094 | O18: =COUNT(D18:M18)*6 -> 6 | P18: =N18/O18 -> 182.33333
B20: ELVERUM
A22: 1 | B22: Ole Andre Bjørsland | C22: BR | D22: 1200 | N22: =SUM(D22:M22) -> 1200 | O22: =COUNT(D22:M22)*6 -> 6 | P22: =N22/O22 -> 200
A23: 2 | B23: Frank Bangshaug | C23: E | D23: 1172 | N23: =SUM(D23:M23) -> 1172 | O23: =COUNT(D23:M23)*6 -> 6 | P23: =N23/O23 -> 195.33333
A24: 3 | B24: Rolf J Boysen | C24: BR | D24: 1162 | N24: =SUM(D24:M24) -> 1162 | O24: =COUNT(D24:M24)*6 -> 6 | P24: =N24/O24 -> 193.66667
A25: 4 | B25: Terje Hansen | C25: E | D25: 1131 | N25: =SUM(D25:M25) -> 1131 | O25: =COUNT(D25:M25)*6 -> 6 | P25: =N25/O25 -> 188.5
A26: 5 | B26: Ove Osgjelten | C26: E | D26: 1130 | N26: =SUM(D26:M26) -> 1130 | O26: =COUNT(D26:M26)*6 -> 6 | P26: =N26/O26 -> 188.33333
A27: 6 | B27: Terje Johansen | C27: E | D27: 1082 | N27: =SUM(D27:M27) -> 1082 | O27: =COUNT(D27:M27)*6 -> 6 | P27: =N27/O27 -> 180.33333
A28: 7 | B28: Egil D Pedersen | C28: E | D28: 1063 | N28: =SUM(D28:M28) -> 1063 | O28: =COUNT(D28:M28)*6 -> 6 | P28: =N28/O28 -> 177.16667
A29: 8 | B29: Magne Brobakken | C29: E | D29: 1033 | N29: =SUM(D29:M29) -> 1033 | O29: =COUNT(D29:M29)*6 -> 6 | P29: =N29/O29 -> 172.16667
A30: 9 | B30: Lars Ove Dahl | C30: E | D30: 1026 | N30: =SUM(D30:M30) -> 1026 | O30: =COUNT(D30:M30)*6 -> 6 | P30: =N30/O30 -> 171
A31: 10 | B31: Peder Skog | C31: E | D31: 1010 | N31: =SUM(D31:M31) -> 1010 | O31: =COUNT(D31:M31)*6 -> 6 | P31: =N31/O31 -> 168.33333
A32: 11 | B32: Karl Kristoffersen | C32: E | D32: 823 | N32: =SUM(D32:M32) -> 823 | O32: =COUNT(D32:M32)*6 -> 6 | P32: =N32/O32 -> 137.16667
B34: GJØVIK
A36: 1 | B36: Daniel Gausetvik | C36: GJ | D36: 1325 | N36: =SUM(D36:M36) -> 1325 | O36: =COUNT(D36:M36)*6 -> 6 | P36: =N36/O36 -> 220.83333
A37: 2 | B37: Øyvind Skoglund | C37: GJ | D37: 1295 | N37: =SUM(D37:M37) -> 1295 | O37: =COUNT(D37:M37)*6 -> 6 | P37: =N37/O37 -> 215.83333
A38: 3 | B38: Tommy Johannessen | C38: GJ | D38: 1293 | N38: =SUM(D38:M38) -> 1293 | O38: =COUNT(D38:M38)*6 -> 6 | P38: =N38/O38 -> 215.5
A39: 4 | B39: Bjørn F Svendby | C39: GJ | D39: 1257 | N39: =SUM(D39:M39) -> 1257 | O39: =COUNT(D39:M39)*6 -> 6 | P39: =N39/O39 -> 209.5
A40: 5 | B40: Rune Martinsen | C40: GJ | D40: 1238 | N40: =SUM(D40:M40) -> 1238 | O40: =COUNT(D40:M40)*6 -> 6 | P40: =N40/O40 -> 206.33333
A41: 6 | B41: Geir Ståle Kristiansen | C41: S | D41: 1237 | N41: =SUM(D41:M41) -> 1237 | O41: =COUNT(D41:M41)*6 -> 6 | P41: =N41/O41 -> 206.16667
A42: 7 | B42: Magne Erik Olsen | C42: GJ | D42: 1139 | N42: =SUM(D42:M42) -> 1139 | O42: =COUNT(D42:M42)*6 -> 6 | P42: =N42/O42 -> 189.83333
A43: 8 | B43: Terje Bondeli | C43: GJ | D43: 1114 | N43: =SUM(D43:M43) -> 1114 | O43: =COUNT(D43:M43)*6 -> 6 | P43: =N43/O43 -> 185.66667
A44: 9 | B44: Asbjørn Kampelien | C44: GJ | D44: 1110 | N44: =SUM(D44:M44) -> 1110 | O44: =COUNT(D44:M44)*6 -> 6 | P44: =N44/O44 -> 185
A45: 10 | B45: Arild Lunde | C45: GJ | D45: 1090 | N45: =SUM(D45:M45) -> 1090 | O45: =COUNT(D45:M45)*6 -> 6 | P45: =N45/O45 -> 181.66667
A46: 11 | B46: Paul Dahl | C46: GJ | D46: 1088 | N46: =SUM(D46:M46) -> 1088 | O46: =COUNT(D46:M46)*6 -> 6 | P46: =N46/O46 -> 181.33333
...

Sheet T.L kvinner
A1: 5´cup 2010-11 | H1: Damer:
B2: Navn | C2: Klubb | D2: Aug. | E2: Sept. | F2: Okt. | G2: Nov. | H2: Des. | I2: Jan. | J2: Febr. | K2: Mars | L2: April | M2: Mai | N2: Sum | O2: Serier | P2: Snitt
B3: HAMAR
A5: 1 | B5: Berit W Olsen | C5: BR | D5: 958 | N5: =SUM(D5:M5) -> 958 | O5: =COUNT(D5:M5)*6 -> 6 | P5: =N5/O5 -> 159.66667
A6: 2 | B6: Mette Snuggerud | C6: GJ | D6: 1084 | N6: =SUM(D6:M6) -> 1084 | O6: =COUNT(D6:M6)*6 -> 6 | P6: =N6/O6 -> 180.66667
B8: ELVERUM
A10: 1 | B10: Mona L. Galåen | C10: E | D10: 926 | N10: =SUM(D10:M10) -> 926 | O10: =COUNT(D10:M10)*6 -> 6 | P10: =N10/O10 -> 154.33333
A11: 2 | B11: Mette Braanaas | C11: E | D11: 912 | N11: =SUM(D11:M11) -> 912 | O11: =COUNT(D11:M11)*6 -> 6 | P11: =N11/O11 -> 152
A12: 3 | B12: Berit Sletmoen | C12: E | D12: 833 | N12: =SUM(D12:M12) -> 833 | O12: =COUNT(D12:M12)*6 -> 6 | P12: =N12/O12 -> 138.83333
B14: GJØVIK
A16: 1 | B16: Camilla Berg Olsen | C16: GJ | D16: 1235 | N16: =SUM(D16:M16) -> 1235 | O16: =COUNT(D16:M16)*6 -> 6 | P16: =N16/O16 -> 205.83333
A17: 2 | B17: Grace Torgeirson | C17: GJ | D17: 1175 | N17: =SUM(D17:M17) -> 1175 | O17: =COUNT(D17:M17)*6 -> 6 | P17: =N17/O17 -> 195.83333
A18: 3 | B18: Lillian Larsen | C18: GJ | D18: 1150 | N18: =SUM(D18:M18) -> 1150 | O18: =COUNT(D18:M18)*6 -> 6 | P18: =N18/O18 -> 191.66667
A19: 4 | B19: Katrin Storhaugstuen | C19: GJ | D19: 1083 | N19: =SUM(D19:M19) -> 1083 | O19: =COUNT(D19:M19)*6 -> 6 | P19: =N19/O19 -> 180.5
A20: 5 | B20: Turid-Lise Øvstegaard | C20: B | D20: 1047 | N20: =SUM(D20:M20) -> 1047 | O20: =COUNT(D20:M20)*6 -> 6 | P20: =N20/O20 -> 174.5
A21: 6 | B21: Sara Lindstad | C21: GJ | D21: 1046 | N21: =SUM(D21:M21) -> 1046 | O21: =COUNT(D21:M21)*6 -> 6 | P21: =N21/O21 -> 174.33333
A22: 7 | B22: Line Søhagen | C22: GJ | D22: 1017 | N22: =SUM(D22:M22) -> 1017 | O22: =COUNT(D22:M22)*6 -> 6 | P22: =N22/O22 -> 169.5
A23: 8 | B23: Inger-Lise Eng | C23: GJ | D23: 984 | N23: =SUM(D23:M23) -> 984 | O23: =COUNT(D23:M23)*6 -> 6 | P23: =N23/O23 -> 164
B25: KONGSVINGER
A27: 1 | B27: Grethe B Bergersen | C27: GL | D27: 1134 | N27: =SUM(D27:M27) -> 1134 | O27: =COUNT(D27:M27)*6 -> 6 | P27: =N27/O27 -> 189
A28: 2 | B28: Anita Hagen | C28: GL | D28: 1005 | N28: =SUM(D28:M28) -> 1005 | O28: =COUNT(D28:M28)*6 -> 6 | P28: =N28/O28 -> 167.5
A29: 3 | B29: Mona Danielsen | C29: GL | D29: 986 | N29: =SUM(D29:M29) -> 986 | O29: =COUNT(D29:M29)*6 -> 6 | P29: =N29/O29 -> 164.33333
A30: 4 | B30: Birgitt Blegeberg | C30: GL | D30: 881 | N30: =SUM(D30:M30) -> 881 | O30: =COUNT(D30:M30)*6 -> 6 | P30: =N30/O30 -> 146.83333
A31: 5 | B31: Ida Mellem | C31: GL | D31: 878 | N31: =SUM(D31:M31) -> 878 | O31: =COUNT(D31:M31)*6 -> 6 | P31: =N31/O31 -> 146.33333
A32: 6 | B32: Jorunn Jusnes | C32: GL | D32: 859 | N32: =SUM(D32:M32) -> 859 | O32: =COUNT(D32:M32)*6 -> 6 | P32: =N32/O32 -> 143.16667
A33: 7 | B33: Anne Grete Kristoffersen | C33: GL | D33: 846 | N33: =SUM(D33:M33) -> 846 | O33: =COUNT(D33:M33)*6 -> 6 | P33: =N33/O33 -> 141
A34: 8 | B34: Liv S Engom | C34: GL | D34: 784 | N34: =SUM(D34:M34) -> 784 | O34: =COUNT(D34:M34)*6 -> 6 | P34: =N34/O34 -> 130.66667
B36: FLISA
A38: 1 | B38: Mariann Groven | C38: S | D38: 1075
A39: 2 | B39: Toril Dammen | C39: S | D39: 1036 | N39: =SUM(D39:M39) -> 1036 | O39: =COUNT(D39:M39)*6 -> 6 | P39: =N39/O39 -> 172.66667
A40: 3 | B40: Gerd Brandett | C40: S | D40: 1010 | N40: =SUM(D40:M40) -> 1010 | O40: =COUNT(D40:M40)*6 -> 6 | P40: =N40/O40 -> 168.33333
B42: FAGERNES
A44: 1 | B44: Astrid Andersen | C44: V | D44: 962 | N44: =SUM(D44:M44) -> 962 | O44: =COUNT(D44:M44)*6 -> 6 | P44: =N44/O44 -> 160.33333
A45: 2 | B45: Randi Flagget | C45: V | D45: 827 | N45: =SUM(D45:M45) -> 827 | O45: =COUNT(D45:M45)*6 -> 6 | P45: =N45/O45 -> 137.83333

Sheet T.L junior
A1: 5´cup 2010-11 | H1: Junior:
B2: Navn | C2: Klubb | D2: Aug. | E2: Sept. | F2: Okt. | G2: Nov. | H2: Des. | I2: Jan. | J2: Febr. | K2: Mars | L2: April | M2: Mai | N2: Sum | O2: Serier | P2: Snitt
A3: 1 | B3: Dennis Olastuen | C3: E | D3: 995 | N3: =SUM(D3:M3) -> 995 | O3: =COUNT(D3:M3)*6 -> 6 | P3: =N3/O3 -> 165.83333
A4: 2 | B4: Marius S Myrberget | C4: E | D4: 917 | N4: =SUM(D4:M4) -> 917 | O4: =COUNT(D4:M4)*6 -> 6 | P4: =N4/O4 -> 152.83333
A5: 3 | B5: Haakon Karset | C5: BR | D5: 891 | N5: =SUM(D5:M5) -> 891 | O5: =COUNT(D5:M5)*6 -> 6 | P5: =N5/O5 -> 148.5
B10: BU13
B11: Jens Mathiesen | C11: S | D11: 930
A14: Klasse B u-11
B15: Jonas Dammen | C15: S | D15: 832

Sheet 6 beste menn
A1: 5´cup 2009-2010 | G1: Herrer | J1: 6 beste
B2: Navn | C2: Klubb | D2: 1 | E2: 2 | F2: 3 | G2: 4 | H2: 5 | I2: 6 | J2: Sum | K2: Serier | L2: Snitt
A3: 1 | B3: Bjørn Einar Rudshagen | C3: S | D3: 1517 | E3: 1503 | F3: 1501 | G3: 1479 | H3: 1448 | I3: 1384 | J3: =SUM(D3:I3) -> 8832 | K3: =COUNT(D3:I3)*6 -> 36 | L3: =J3/K3 -> 245.33333
A4: 2 | B4: Stian Olsen | C4: BR | D4: 1497 | E4: 1497 | F4: 1467 | G4: 1454 | H4: 1452 | I4: 1420 | J4: =SUM(D4:I4) -> 8787 | K4: =COUNT(D4:I4)*6 -> 36 | L4: =J4/K4 -> 244.08333
A5: 3 | B5: Christer Aker | C5: BR | D5: 1536 | E5: 1488 | F5: 1455 | G5: 1436 | H5: 1365 | I5: 1357 | J5: =SUM(D5:I5) -> 8637 | K5: =COUNT(D5:I5)*6 -> 36 | L5: =J5/K5 -> 239.91667
A6: 4 | B6: Gjermund Mathiesen | C6: S | D6: 1498 | E6: 1464 | F6: 1460 | G6: 1433 | H6: 1384 | I6: 1372 | J6: =SUM(D6:I6) -> 8611 | K6: =COUNT(D6:I6)*6 -> 36 | L6: =J6/K6 -> 239.19444
A7: 5 | B7: Erland Lund | C7: BR | D7: 1465 | E7: 1464 | F7: 1432 | G7: 1427 | H7: 1411 | I7: 1376 | J7: =SUM(D7:I7) -> 8575 | K7: =COUNT(D7:I7)*6 -> 36 | L7: =J7/K7 -> 238.19444
A8: 6 | B8: Tor Inge Jansen | C8: BR | D8: 1605 | E8: 1505 | F8: 1450 | G8: 1345 | H8: 1334 | I8: 1322 | J8: =SUM(D8:I8) -> 8561 | K8: =COUNT(D8:I8)*6 -> 36 | L8: =J8/K8 -> 237.80556
A9: 7 | B9: Jan Cato Sparby | C9: S | D9: 1484 | E9: 1465 | F9: 1439 | G9: 1400 | H9: 1392 | I9: 1369 | J9: =SUM(D9:I9) -> 8549 | K9: =COUNT(D9:I9)*6 -> 36 | L9: =J9/K9 -> 237.47222
A10: 8 | B10: Sean M. Hustveit | C10: BR | D10: 1477 | E10: 1452 | F10: 1397 | G10: 1379 | H10: 1364 | I10: 1345 | J10: =SUM(D10:I10) -> 8414 | K10: =COUNT(D10:I10)*6 -> 36 | L10: =J10/K10 -> 233.72222
A11: 9 | B11: Tommy Johannessen | C11: GJ | D11: 1492 | E11: 1448 | F11: 1395 | G11: 1374 | H11: 1370 | I11: 1334 | J11: =SUM(D11:I11) -> 8413 | K11: =COUNT(D11:I11)*6 -> 36 | L11: =J11/K11 -> 233.69444
A12: 10 | B12: Tron August Bråten | C12: BR | D12: 1473 | E12: 1466 | F12: 1389 | G12: 1373 | H12: 1347 | I12: 1343 | J12: =SUM(D12:I12) -> 8391 | K12: =COUNT(D12:I12)*6 -> 36 | L12: =J12/K12 -> 233.08333
A13: 11 | B13: John Fossum | C13: BR | D13: 1405 | E13: 1403 | F13: 1388 | G13: 1378 | H13: 1367 | I13: 1312 | J13: =SUM(D13:I13) -> 8253 | K13: =COUNT(D13:I13)*6 -> 36 | L13: =J13/K13 -> 229.25
A14: 12 | B14: Roger Johannessen | C14: Ha | D14: 1495 | E14: 1367 | F14: 1366 | G14: 1366 | H14: 1326 | I14: 1282 | J14: =SUM(D14:I14) -> 8202 | K14: =COUNT(D14:I14)*6 -> 36 | L14: =J14/K14 -> 227.83333
... A90: 88 | B90: Arne Sørumshagen | C90: V | D90: 1096 | E90: 972 | F90: 924 | G90: 923 | H90: 922 | I90: 911 | J90: =SUM(D90:I90) -> 5748 | K90: =COUNT(D90:I90)*6 -> 36 | L90: =J90/K90 -> 159.66667
B92: Tommy Gundersen | C92: GL | D92: 1385 | E92: 1345 | J92: =SUM(D92:I92) -> 2730 | K92: =COUNT(D92:I92)*6 -> 12 | L92: =J92/K92 -> 227.5
B93: Geir Beck | C93: S | D93: 1428 | E93: 1279 | J93: =SUM(D93:I93) -> 2707 | K93: =COUNT(D93:I93)*6 -> 12 | L93: =J93/K93 -> 225.58333
B94: Øyvind Skoglund | C94: GJ | D94: 1504 | E94: 1345 | F94: 1340 | G94: 1270 | H94: 1263 | J94: =SUM(D94:I94) -> 6722 | K94: =COUNT(D94:I94)*6 -> 30 | L94: =J94/K94 -> 224.06667
B95: Fredrick H Åsheim | C95: GJ | D95: 1371 | E95: 1355 | F95: 1311 | G95: 1271 | J95: =SUM(D95:I95) -> 5308 | K95: =COUNT(D95:I95)*6 -> 24 | L95: =J95/K95 -> 221.16667
B96: Daniel Gausetvik | C96: GJ | D96: 1466 | E96: 1349 | F96: 1239 | G96: 1215 | H96: 1156 | J96: =SUM(D96:I96) -> 6425 | K96: =COUNT(D96:I96)*6 -> 30 | L96: =J96/K96 -> 214.16667
B97: Lars Perry Øie | C97: BR | D97: 1285 | J97: =SUM(D97:I97) -> 1285 | K97: =COUNT(D97:I97)*6 -> 6 | L97: =J97/K97 -> 214.16667
B98: Vegar Frøhaug | C98: BR | D98: 1367 | E98: 1155 | J98: =SUM(D98:I98) -> 2522 | K98: =COUNT(D98:I98)*6 -> 12 | L98: =J98/K98 -> 210.16667
B99: Leif Ingjer | C99: HA | D99: 1329 | E99: 1245 | F99: 1245 | G99: 1224 | J99: =SUM(D99:I99) -> 5043 | K99: =COUNT(D99:I99)*6 -> 24 | L99: =J99/K99 -> 210.125
B100: Torleif Strandvik | C100: GJ | D100: 1254 | E100: 1252 | J100: =SUM(D100:I100) -> 2506 | K100: =COUNT(D100:I100)*6 -> 12 | L100: =J100/K100 -> 208.83333
B101: Magnus Johansson | C101: GL | D101: 1244 | J101: =SUM(D101:I101) -> 1244 | K101: =COUNT(D101:I101)*6 -> 6 | L101: =J101/K101 -> 207.33333
B102: Thorbjørn Dahle | C102: GJ | D102: 1251 | E102: 1231 | J102: =SUM(D102:I102) -> 2482 | K102: =COUNT(D102:I102)*6 -> 12 | L102: =J102/K102 -> 206.83333
B103: Kåre Løkken | C103: GJ | D103: 1229 | J103: =SUM(D103:I103) -> 1229 | K103: =COUNT(D103:I103)*6 -> 6 | L103: =J103/K103 -> 204.83333
B104: Bjørn Helge Sebuseter | C104: S | D104: 1298 | E104: 1270 | F104: 1215 | G104: 1106 | J104: =SUM(D104:I104) -> 4889 | K104: =COUNT(D104:I104)*6 -> 24 | L104: =J104/K104 -> 203.70833
B105: Håkon Sagerud | C105: S | D105: 1216 | J105: =SUM(D105:I105) -> 1216 | K105: =COUNT(D105:I105)*6 -> 6 | L105: =J105/K105 -> 202.66667
B106: Helge Engen | C106: GJ | D106: 1229 | E106: 1201 | J106: =SUM(D106:I106) -> 2430 | K106: =COUNT(D106:I106)*6 -> 12 | L106: =J106/K106 -> 202.5
B107: Frode Vermund | C107: S | D107: 1210 | J107: =SUM(D107:I107) -> 1210 | K107: =COUNT(D107:I107)*6 -> 6 | L107: =J107/K107 -> 201.66667
B108: Asbjørn Kampelien | C108: GJ | D108: 1285 | E108: 1207 | F108: 1198 | G108: 1153 | H108: 1125 | J108: =SUM(D108:I108) -> 5968 | K108: =COUNT(D108:I108)*6 -> 30 | L108: =J108/K108 -> 198.93333
B109: Rune Gullberg | C109: GJ | D109: 1307 | E109: 1237 | F109: 1197 | G109: 1161 | H109: 1033 | J109: =SUM(D109:I109) -> 5935 | K109: =COUNT(D109:I109)*6 -> 30 | L109: =J109/K109 -> 197.83333
B110: Egil Egeberg | C110: XXX | D110: 1256 | E110: 1235 | F110: 1200 | G110: 1054 | J110: =SUM(D110:I110) -> 4745 | K110: =COUNT(D110:I110)*6 -> 24 | L110: =J110/K110 -> 197.70833
B111: Vilhelm Johansen | C111: E | D111: 1342 | E111: 1214 | F111: 1110 | G111: 1075 | J111: =SUM(D111:I111) -> 4741 | K111: =COUNT(D111:I111)*6 -> 24 | L111: =J111/K111 -> 197.54167
B112: John Bang Olsen | C112: HA | D112: 1204 | E112: 1202 | F112: 1149 | J112: =SUM(D112:I112) -> 3555 | K112: =COUNT(D112:I112)*6 -> 18 | L112: =J112/K112 -> 197.5
B113: Espen R Sand | C113: GJ | D113: 1243 | E113: 1198 | F113: 1162 | G113: 1136 | J113: =SUM(D113:I113) -> 4739 | K113: =COUNT(D113:I113)*6 -> 24 | L113: =J113/K113 -> 197.45833
B114: Helge Olsen | C114: BR | D114: 1207 | E114: 1171 | F114: 1156 | J114: =SUM(D114:I114) -> 3534 | K114: =COUNT(D114:I114)*6 -> 18 | L114: =J114/K114 -> 196.33333
B115: Anders Ring | C115: GL | D115: 1176 | J115: =SUM(D115:I115) -> 1176 | K115: =COUNT(D115:I115)*6 -> 6 | L115: =J115/K115 -> 196
B116: Odd Steinar Nymoen | C116: L | D116: 1192 | E116: 1148 | J116: =SUM(D116:I116) -> 2340 | K116: =COUNT(D116:I116)*6 -> 12 | L116: =J116/K116 -> 195
...

Sheet 6 beste kvinner
A1: 5´cup 2009-2010 | G1: Damer | J1: 6 beste
B2: Navn | C2: Klubb | D2: 1 | E2: 2 | F2: 3 | G2: 4 | H2: 5 | I2: 6 | J2: Sum | K2: Serier | L2: Snitt
A3: 1 | B3: Grethe B Bergersen | C3: GL | D3: 1350 | E3: 1333 | F3: 1304 | G3: 1260 | H3: 1241 | I3: 1234 | J3: =SUM(D3:I3) -> 7722 | K3: =COUNT(D3:I3)*6 -> 36 | L3: =J3/K3 -> 214.5
A4: 2 | B4: Sara Lindstad | C4: GJ | D4: 1432 | E4: 1380 | F4: 1245 | G4: 1232 | H4: 1214 | I4: 1203 | J4: =SUM(D4:I4) -> 7706 | K4: =COUNT(D4:I4)*6 -> 36 | L4: =J4/K4 -> 214.05556
A5: 3 | B5: Grace Torgeirson | C5: GJ | D5: 1383 | E5: 1336 | F5: 1281 | G5: 1263 | H5: 1234 | I5: 1201 | J5: =SUM(D5:I5) -> 7698 | K5: =COUNT(D5:I5)*6 -> 36 | L5: =J5/K5 -> 213.83333
A6: 4 | B6: Lillian Larsen | C6: GJ | D6: 1358 | E6: 1304 | F6: 1275 | G6: 1274 | H6: 1254 | I6: 1201 | J6: =SUM(D6:I6) -> 7666 | K6: =COUNT(D6:I6)*6 -> 36 | L6: =J6/K6 -> 212.94444
A7: 5 | B7: Camilla Berg Olsen | C7: GJ | D7: 1319 | E7: 1295 | F7: 1255 | G7: 1244 | H7: 1239 | I7: 1172 | J7: =SUM(D7:I7) -> 7524 | K7: =COUNT(D7:I7)*6 -> 36 | L7: =J7/K7 -> 209
A8: 6 | B8: Gerd Brandett | C8: S | D8: 1400 | E8: 1234 | F8: 1232 | G8: 1217 | H8: 1206 | I8: 1181 | J8: =SUM(D8:I8) -> 7470 | K8: =COUNT(D8:I8)*6 -> 36 | L8: =J8/K8 -> 207.5
A9: 7 | B9: Anita Meiningen | C9: S | D9: 1269 | E9: 1264 | F9: 1200 | G9: 1191 | H9: 1183 | I9: 1105 | J9: =SUM(D9:I9) -> 7212 | K9: =COUNT(D9:I9)*6 -> 36 | L9: =J9/K9 -> 200.33333
A10: 8 | B10: Katrin Storhaugstuen | C10: GJ | D10: 1227 | E10: 1205 | F10: 1196 | G10: 1162 | H10: 1147 | I10: 1105 | J10: =SUM(D10:I10) -> 7042 | K10: =COUNT(D10:I10)*6 -> 36 | L10: =J10/K10 -> 195.61111
A11: 9 | B11: Turid-Lise Øvstegaard | C11: B | D11: 1239 | E11: 1236 | F11: 1162 | G11: 1160 | H11: 1126 | I11: 1116 | J11: =SUM(D11:I11) -> 7039 | K11: =COUNT(D11:I11)*6 -> 36 | L11: =J11/K11 -> 195.52778
A12: 10 | B12: Siri Kyseth Thorsen | C12: GJ | D12: 1250 | E12: 1168 | F12: 1162 | G12: 1154 | H12: 1101 | I12: 1081 | J12: =SUM(D12:I12) -> 6916 | K12: =COUNT(D12:I12)*6 -> 36 | L12: =J12/K12 -> 192.11111
A13: 11 | B13: Mette Snuggerud | C13: GJ | D13: 1207 | E13: 1149 | F13: 1131 | G13: 1113 | H13: 1087 | I13: 1080 | J13: =SUM(D13:I13) -> 6767 | K13: =COUNT(D13:I13)*6 -> 36 | L13: =J13/K13 -> 187.97222
A14: 12 | B14: Lisbeth Buserud | C14: GL | D14: 1222 | E14: 1114 | F14: 1109 | G14: 1029 | H14: 1000 | I14: 994 | J14: =SUM(D14:I14) -> 6468 | K14: =COUNT(D14:I14)*6 -> 36 | L14: =J14/K14 -> 179.66667
... A21: 19 | B21: Gunn Eli Lund | C21: GL | D21: 945 | E21: 945 | F21: 942 | G21: 941 | H21: 890 | I21: 885 | J21: =SUM(D21:I21) -> 5548 | K21: =COUNT(D21:I21)*6 -> 36 | L21: =J21/K21 -> 154.11111
B23: Lisa Bergersen | C23: S | D23: 1169 | E23: 1131 | F23: 1122 | G23: 1122 | H23: 1008 | J23: =SUM(D23:I23) -> 5552 | K23: =COUNT(D23:I23)*6 -> 30 | L23: =J23/K23 -> 185.06667
B24: Toril Dammen | C24: S | D24: 1248 | E24: 1094 | F24: 1033 | G24: 1026 | J24: =SUM(D24:I24) -> 4401 | K24: =COUNT(D24:I24)*6 -> 24 | L24: =J24/K24 -> 183.375
B25: Elin Mathiesen | C25: S | D25: 1187 | E25: 1095 | F25: 1042 | G25: 1039 | J25: =SUM(D25:I25) -> 4363 | K25: =COUNT(D25:I25)*6 -> 24 | L25: =J25/K25 -> 181.79167
B26: Inger-Lise Eng | C26: GJ | D26: 1106 | E26: 1042 | F26: 1038 | G26: 1010 | H26: 1003 | J26: =SUM(D26:I26) -> 5199 | K26: =COUNT(D26:I26)*6 -> 30 | L26: =J26/K26 -> 173.3
B27: Anne E. Lien | C27: E | D27: 1052 | E27: 1014 | F27: 1003 | G27: 981 | H27: 926 | J27: =SUM(D27:I27) -> 4976 | K27: =COUNT(D27:I27)*6 -> 30 | L27: =J27/K27 -> 165.86667
B28: Randi Hansen | C28: A | D28: 986 | J28: =SUM(D28:I28) -> 986 | K28: =COUNT(D28:I28)*6 -> 6 | L28: =J28/K28 -> 164.33333
B29: Berit Sletmoen | C29: E | D29: 985 | J29: =SUM(D29:I29) -> 985 | K29: =COUNT(D29:I29)*6 -> 6 | L29: =J29/K29 -> 164.16667
B30: Mona L. Galåen | C30: E | D30: 1054 | E30: 964 | F30: 957 | G30: 933 | J30: =SUM(D30:I30) -> 3908 | K30: =COUNT(D30:I30)*6 -> 24 | L30: =J30/K30 -> 162.83333
B31: May Kr Rossly | C31: GJ | D31: 974 | E31: 966 | F31: 951 | J31: =SUM(D31:I31) -> 2891 | K31: =COUNT(D31:I31)*6 -> 18 | L31: =J31/K31 -> 160.61111
B32: Veronica Øines | C32: E | D32: 953 | E32: 918 | F32: 893 | J32: =SUM(D32:I32) -> 2764 | K32: =COUNT(D32:I32)*6 -> 18 | L32: =J32/K32 -> 153.55556
B33: Berit W Olsen | C33: BR | D33: 985 | E33: 926 | F33: 885 | G33: 872 | J33: =SUM(D33:I33) -> 3668 | K33: =COUNT(D33:I33)*6 -> 24 | L33: =J33/K33 -> 152.83333
B34: Randi Flaget | C34: V | D34: 962 | E34: 867 | J34: =SUM(D34:I34) -> 1829 | K34: =COUNT(D34:I34)*6 -> 12 | L34: =J34/K34 -> 152.41667
B35: Jorunn Jusnes | C35: GL | D35: 911 | E35: 986 | F35: 932 | G35: 874 | H35: 811 | J35: =SUM(D35:I35) -> 4514 | K35: =COUNT(D35:I35)*6 -> 30 | L35: =J35/K35 -> 150.46667
B36: Anne Grete Kristoffersen | C36: GL | D36: 895 | J36: =SUM(D36:I36) -> 895 | K36: =COUNT(D36:I36)*6 -> 6 | L36: =J36/K36 -> 149.16667
B37: Liv S Engom | C37: GL | D37: 817 | E37: 744 | F37: 741 | G37: 652 | J37: =SUM(D37:I37) -> 2954 | K37: =COUNT(D37:I37)*6 -> 24 | L37: =J37/K37 -> 123.08333

Sheet 6 beste junior
A1: 5´cup 2009-2010 | G1: Junior: | J1: 6 beste
B2: Navn | C2: Klubb | D2: 1 | E2: 2 | F2: 3 | G2: 4 | H2: 5 | I2: 6 | J2: Sum | K2: Serier | L2: Snitt
A3: 1 | B3: Håkon Nerdrum | C3: GL | D3: 1385 | E3: 1372 | F3: 1359 | G3: 1344 | H3: 1340 | I3: 1335 | J3: =SUM(D3:I3) -> 8135 | K3: =COUNT(D3:I3)*6 -> 36 | L3: =J3/K3 -> 225.97222
A4: 2 | B4: Andreas Skoglund | C4: S | D4: 1340 | E4: 1335 | F4: 1332 | G4: 1297 | H4: 1294 | I4: 1290 | J4: =SUM(D4:I4) -> 7888 | K4: =COUNT(D4:I4)*6 -> 36 | L4: =J4/K4 -> 219.11111
A5: 3 | B5: Sigbjørn Eide | C5: HA | D5: 1320 | E5: 1155 | F5: 1120 | G5: 1109 | H5: 1084 | I5: 975 | J5: =SUM(D5:I5) -> 6763 | K5: =COUNT(D5:I5)*6 -> 36 | L5: =J5/K5 -> 187.86111
A6: 4 | B6: Vegard R Johansen | C6: BR | D6: 1207 | E6: 1151 | F6: 1144 | G6: 1103 | H6: 1007 | I6: 988 | J6: =SUM(D6:I6) -> 6600 | K6: =COUNT(D6:I6)*6 -> 36 | L6: =J6/K6 -> 183.33333
A7: 5 | B7: Rolf Helge Tollefsen | C7: E | D7: 1146 | E7: 1124 | F7: 1032 | G7: 1025 | H7: 935 | I7: 809 | J7: =SUM(D7:I7) -> 6071 | K7: =COUNT(D7:I7)*6 -> 36 | L7: =J7/K7 -> 168.63889
A8: 6 | B8: Sindre Køhl Berg | C8: E | D8: 1090 | E8: 835 | F8: 780 | G8: 763 | H8: 760 | I8: 703 | J8: =SUM(D8:I8) -> 4931 | K8: =COUNT(D8:I8)*6 -> 36 | L8: =J8/K8 -> 136.97222
A9: 7 | B9: Marius S Myrberget | C9: E | D9: 931 | E9: 882 | F9: 862 | G9: 824 | H9: 649 | I9: 620 | J9: =SUM(D9:I9) -> 4768 | K9: =COUNT(D9:I9)*6 -> 36 | L9: =J9/K9 -> 132.44444
B11: Julius E Hopka | C11: BR | D11: 1310 | J11: =SUM(D11:I11) -> 1310 | K11: =COUNT(D11:I11)*6 -> 6 | L11: =J11/K11 -> 218.33333
B12: Kim Robin Øverby | C12: GL | D12: 1156 | J12: =SUM(D12:I12) -> 1156 | K12: =COUNT(D12:I12)*6 -> 6 | L12: =J12/K12 -> 192.66667
B13: Petter Sveen | C13: GJ | D13: 1077 | E13: 1072 | F13: 1056 | J13: =SUM(D13:I13) -> 3205 | K13: =COUNT(D13:I13)*6 -> 18 | L13: =J13/K13 -> 178.05556
B14: Dennis Olastuen | C14: E | D14: 1018 | E14: 949 | F14: 947 | J14: =SUM(D14:I14) -> 2914 | K14: =COUNT(D14:I14)*6 -> 18 | L14: =J14/K14 -> 161.88889
B15: Steffen Mobakk | C15: S | D15: 986 | E15: 944 | F15: 940 | G15: 924 | H15: 906 | J15: =SUM(D15:I15) -> 4700 | K15: =COUNT(D15:I15)*6 -> 30 | L15: =J15/K15 -> 156.66667
B16: Espen L Olsen | C16: BR | D16: 886 | J16: =SUM(D16:I16) -> 886 | K16: =COUNT(D16:I16)*6 -> 6 | L16: =J16/K16 -> 147.66667
B17: Hanne B Buserud | C17: GL | D17: 905 | E17: 847 | F17: 736 | J17: =SUM(D17:I17) -> 2488 | K17: =COUNT(D17:I17)*6 -> 18 | L17: =J17/K17 -> 138.22222
B18: Ole Martin Gjerdet | C18: L | D18: 727 | J18: =SUM(D18:I18) -> 727 | K18: =COUNT(D18:I18)*6 -> 6 | L18: =J18/K18 -> 121.16667
B19: Jan Kristian Billerud | C19: GL | D19: 757 | E19: 727 | F19: 725 | G19: 716 | H19: 633 | J19: =SUM(D19:I19) -> 3558 | K19: =COUNT(D19:I19)*6 -> 30 | L19: =J19/K19 -> 118.6
B20: Joakim Frøsaker | C20: GJ | D20: 785 | E20: 764 | F20: 610 | G20: 571 | J20: =SUM(D20:I20) -> 2730 | K20: =COUNT(D20:I20)*6 -> 24 | L20: =J20/K20 -> 113.75
B21: Haakon Karset | C21: BR | D21: 536 | J21: =SUM(D21:I21) -> 536 | K21: =COUNT(D21:I21)*6 -> 6 | L21: =J21/K21 -> 89.333333
B24: BU13
B25: Jens Mathiesen | C25: S | E25: 829 | F25: 1028 | G25: 939 | H25: 901 | I25: 940 | J25: 982 | K25: 926 | L25: 853 | M25: 1091
B26: Lotte Eline G Engen | C26: GJ | F26: 734
B29: BU11
B30: Jonas Dammen | C30: S | K30: 863 | L30: 766 | M30: 1028

Sheet Oversikt økonomi
A1: Oversikt over 5´cupen 2009-2010
A2: Antall | D2: Totalt antall | G2: Turnerings | H2: Netto før | J2: Overskudd/ | K2: Ekstra pga
A3: deltagere: | B3: Totalt: | C3: Med 6+ | D3: turneringer | E3: Innbetalt | F3: Avgift NBF | G3: avgift | H3: premier | I3: Premier | J3: krus | K3: 10,- økning
A4: Herrer: | B4: =COUNT('T.L menn'!A5:A116) -> 83 | C4: =COUNT('6 beste menn'!A3:A222) -> 88 | D4: =COUNT('T.L menn'!D5:M154) -> 83 | E4: =D4*60 -> 4980 | F4: =D4*20 -> 1660 | H4: =E4-F4 -> 3320 | I4: =C32 -> 24300 | K4: =D4*10 -> 830
A5: Damer: | B5: =COUNT('T.L kvinner'!A5:A142) -> 26 | C5: =COUNT('6 beste kvinner'!A3:A44) -> 19 | D5: =COUNT('T.L kvinner'!D5:M59) -> 26 | E5: =D5*60 -> 1560 | F5: =D5*20 -> 520 | H5: =E5-F5 -> 1040 | I5: =F32 -> 5000 | K5: =D5*10 -> 260
A6: Junior: | B6: =COUNT('T.L junior'!A3:A103) -> 3 | C6: 15 | D6: =COUNT('T.L junior'!D3:M14) -> 4 | E6: =D6*30 -> 120 | F6: 0 | H6: =E6-F6 -> 120 | I6: =I32 -> 3100
A7: Sum: | B7: =SUM(B4:B6) -> 112 | C7: =SUM(C4:C6) -> 122 | D7: =SUM(D4:D6) -> 113 | E7: =SUM(E4:E6) -> 6660 | F7: =SUM(F4:F6) -> 2180 | G7: 1500 | H7: =SUM(H4:H6)-G7 -> 2980 | I7: =SUM(I4:I6)+C37 -> 42400 | J7: =H7-I7 -> -39420 | K7: =SUM(K4:K5) -> 1090
A10: Herrer: | E10: Damer: | H10: Junior:
A11: 1.premie | C11: 5500 | E11: 1.premie | F11: 2000 | H11: 1.premie | I11: 1500
A12: 2.premie | C12: 4000 | E12: 2.premie | F12: 1400 | H12: 2.premie | I12: 1000
A13: 3.premie | C13: 2500 | E13: 3.premie | F13: 800 | H13: 3.premie | I13: 600
A14: 4.premie | C14: 1500 | E14: 4.premie | F14: 400 | H14: Beste jente | I14: *400 | J14: ikke noen som er kvalifisert denne sesongen
A15: 5.premie | C15: 1200 | E15: 5.premie | F15: 400 | J15: Premiene justeres til våren
A16: 6.premie | C16: 1200 | J16: etter antall deltagere
A17: 7.premie | C17: 1000
A18: 8.premie | C18: 1000
A19: 9.premie | C19: 800
A20: 10.premie | C20: 800
A21: 11.premie | C21: 600
A22: 12.premie | C22: 600
A23: 13.premie | C23: 500
A24: 14.premie | C24: 500
A25: 15.premie | C25: 500
A26: 16.premie | C26: 500
A27: 17.premie | C27: 400
A28: 18.premie | C28: 400
... A30: 20.premie | C30: 400
A32: Samlet: | C32: =SUM(C11:C30) -> 24300 | F32: =SUM(F11:F31) -> 5000 | I32: =SUM(I11:I31) -> 3100
A37: Trekte premier | C37: 10000

Sheet Premieoversikt
A1: Premieoversikt 5 cup sesongen 2007-2008
A3: Herrer: | C3: Navn: | D3: Premie overføres til konto: | E3: Evt.merknader
A4: 1.premie | B4: 5500 | C4: Gjermund Mathiesen | D4: 1917 10 11461
A5: 2.premie | B5: 4000 | C5: Sean M. Hustveit | D5: 1822 19 04210
A6: 3.premie | B6: 2500 | C6: Christer Aker | D6: 1822 12 33316
A7: 3.premie | B7: 1500 | C7: Jan Cato Sparby
A8: 5.premie | B8: 1200 | C8: Stian Olsen | D8: 2050 04 72503
A9: 6.premie | B9: 1200 | C9: John Fossum | D9: 9713 17 71189
A10: 7.premie | B10: 1000 | C10: Tor Inge Jansen | D10: 1440.16.88871 | E10: kontrollert
A11: 8.premie | B11: 1000 | C11: Erland Lund | D11: 1865 11 51763
A12: 9.premie | B12: 800 | C12: Tommy Johannessen | D12: 6179 10 71649 | E12: kontrollert
A13: 10.premie | B13: 800 | C13: Kyrre Kleverud
A14: 11.premie | B14: 600 | C14: Morten Botilsrud
A15: 12.premie | B15: 600 | C15: Knut Atle Skoglund
A16: 13.premie | B16: 500 | C16: Bjørn Lindstad
A17: 14.premie | B17: 500 | C17: Geir Ståle Kristiansen | D17: 1201 06 69985
A18: 15.premie | B18: 500 | C18: Håvard Haugen
A19: 16.premie | B19: 500 | C19: Hallgeir Lønstad | D19: 2010 13 03374 | E19: kontrollert
A20: 17.premie | B20: 400 | C20: Thore Liberg | D20: 1822 26 16154
A21: 18.premie | B21: 400 | C21: Arne Rui | D21: 0530 82 61281 | E21: kontrollert
A22: 19.premie | B22: 400 | C22: Torleif Strandvik
A23: 20.premie | B23: 400 | C23: Bjørn F Svendby | D23: 1822 09 15707 | E23: kontrollert
A25: Damer:
A26: 1.premie | B26: 2000 | C26: Camilla Berg Olsen
A27: 2.premie | B27: 1400 | C27: Grace Torgeirson | D27: 1604 05 18995
A28: 3.premie | B28: 800 | C28: Gerd Brandett
A29: 4.premie | B29: 400 | C29: Lillian Larsen | D29: 0534 66 24738 | E29: kontrollert
A30: 5.premie | B30: 400 | C30: Turid-Lise Øvstegaard
A32: Junior:
A33: 1.premie | B33: 1500 | C33: Andreas Skoglund | D33: 1822.21.35164 | E33: kontrollert
A34: 2.premie | B34: 1000 | C34: Fredrick Åsheim | D34: 1604 13 99477
A35: 3.premie | B35: 600 | C35: Håkon Nerdrum | D35: 1822.22.54147 | E35: kontrollert
A36: beste jente | B36: 400 | C36: Anne-Mette Bjørsland

Sheet Ark1
