Workbook

Sheet T.L menn
A1: 5´er-cup 2011-12 | H1: Herrer:
A2: Nr | B2: Navn | C2: Klubb | D2: Aug. | E2: Sept. | F2: Okt. | G2: Nov. | H2: Des. | I2: Jan. | J2: Febr. | K2: Mars | L2: April | M2: Mai | N2: Sum | O2: Serier | P2: Snitt
B4: ELVERUM
A5: 1 | B5: Ole-André Bjørsland | C5: E | F5: 1305 | N5: =SUM(D5:M5) -> 1305 | O5: =COUNT(D5:M5)*6 -> 6 | P5: =N5/O5 -> 217.5
A6: 2 | B6: Vilhelm Johansen | C6: E | E6: 1302 | F6: 1193 | N6: =SUM(D6:M6) -> 2495 | O6: =COUNT(D6:M6)*6 -> 12 | P6: =N6/O6 -> 207.91667
A7: 3 | B7: Egil D Pedersen | C7: E | D7: 1278 | E7: 1191 | F7: 1247 | N7: =SUM(D7:M7) -> 3716 | O7: =COUNT(D7:M7)*6 -> 18 | P7: =N7/O7 -> 206.44444
A8: 4 | B8: Ove Osgjelten | C8: E | D8: 1157 | E8: 1184 | F8: 1199 | N8: =SUM(D8:M8) -> 3540 | O8: =COUNT(D8:M8)*6 -> 18 | P8: =N8/O8 -> 196.66667
A9: 5 | B9: Shalaw | C9: E | E9: 1155 | N9: =SUM(D9:M9) -> 1155 | O9: =COUNT(D9:M9)*6 -> 6 | P9: =N9/O9 -> 192.5
A10: 6 | B10: Terje Hansen | C10: E | D10: 1146 | E10: 1076 | F10: 1136 | N10: =SUM(D10:M10) -> 3358 | O10: =COUNT(D10:M10)*6 -> 18 | P10: =N10/O10 -> 186.55556
A11: 7 | B11: Frank Bangshaug | C11: E | D11: 1076 | F11: 1134 | N11: =SUM(D11:M11) -> 2210 | O11: =COUNT(D11:M11)*6 -> 12 | P11: =N11/O11 -> 184.16667
A12: 8 | B12: Magne T Brobakken | C12: E | D12: 1052 | E12: 1134 | N12: =SUM(D12:M12) -> 2186 | O12: =COUNT(D12:M12)*6 -> 12 | P12: =N12/O12 -> 182.16667
A13: 9 | B13: Peder Skog | C13: E | D13: 1094 | E13: 1061 | F13: 1079 | N13: =SUM(D13:M13) -> 3234 | O13: =COUNT(D13:M13)*6 -> 18 | P13: =N13/O13 -> 179.66667
A14: 10 | B14: Lars Ove Dahl | C14: E | D14: 1089 | F14: 1052 | N14: =SUM(D14:M14) -> 2141 | O14: =COUNT(D14:M14)*6 -> 12 | P14: =N14/O14 -> 178.41667
A15: 11 | B15: Terje Johansen | C15: E | E15: 1034 | F15: 1012 | N15: =SUM(D15:M15) -> 2046 | O15: =COUNT(D15:M15)*6 -> 12 | P15: =N15/O15 -> 170.5
A16: 12 | B16: Patrick Mårtensson | C16: E | F16: 946 | N16: =SUM(D16:M16) -> 946 | O16: =COUNT(D16:M16)*6 -> 6 | P16: =N16/O16 -> 157.66667
B18: FAGERNES
A19: 1 | B19: Roger Johannessen | C19: Ha | D19: 1093 | E19: 1179 | N19: =SUM(D19:M19) -> 2272 | O19: =COUNT(D19:M19)*6 -> 12 | P19: =N19/O19 -> 189.33333
A20: 3 | B20: Per Ragnar Lillebråten | C20: V | E20: 1049 | N20: =SUM(D20:M20) -> 1049 | O20: =COUNT(D20:M20)*6 -> 6 | P20: =N20/O20 -> 174.83333
A21: 2 | B21: Inge Hådem | C21: V | D21: 1064 | E21: 1066 | F21: 856 | N21: =SUM(D21:M21) -> 2986 | O21: =COUNT(D21:M21)*6 -> 18 | P21: =N21/O21 -> 165.88889
A22: 5 | B22: Odd Arild Dokken | C22: V | E22: 991 | F22: 963 | N22: =SUM(D22:M22) -> 1954 | O22: =COUNT(D22:M22)*6 -> 12 | P22: =N22/O22 -> 162.83333
A23: 7 | B23: Magne Garli | C23: V | E23: 973 | N23: =SUM(D23:M23) -> 973 | O23: =COUNT(D23:M23)*6 -> 6 | P23: =N23/O23 -> 162.16667
A24: 4 | B24: Arne Myhre | C24: V | E24: 1002 | F24: 942 | N24: =SUM(D24:M24) -> 1944 | O24: =COUNT(D24:M24)*6 -> 12 | P24: =N24/O24 -> 162
A25: 6 | B25: Arild Strande | C25: V | D25: 1026 | E25: 949 | F25: 897 | N25: =SUM(D25:M25) -> 2872 | O25: =COUNT(D25:M25)*6 -> 18 | P25: =N25/O25 -> 159.55556
A26: 8 | B26: Thomas Kåre Hamre | C26: V | D26: 852 | E26: 985 | F26: 875 | N26: =SUM(D26:M26) -> 2712 | O26: =COUNT(D26:M26)*6 -> 18 | P26: =N26/O26 -> 150.66667
A27: 9 | B27: Arne Sørumshaugen | C27: V | E27: 903 | F27: 886 | N27: =SUM(D27:M27) -> 1789 | O27: =COUNT(D27:M27)*6 -> 12 | P27: =N27/O27 -> 149.08333
A28: 13 | B28: Arvid Fystro | C28: V | D28: 823 | F28: 943 | N28: =SUM(D28:M28) -> 1766 | O28: =COUNT(D28:M28)*6 -> 12 | P28: =N28/O28 -> 147.16667
A29: 10 | B29: Arne Øygard | C29: V | D29: 880 | N29: =SUM(D29:M29) -> 880 | O29: =COUNT(D29:M29)*6 -> 6 | P29: =N29/O29 -> 146.66667
A30: 12 | B30: Ivar Hamre | C30: V | D30: 859 | E30: 806 | F30: 888 | N30: =SUM(D30:M30) -> 2553 | O30: =COUNT(D30:M30)*6 -> 18 | P30: =N30/O30 -> 141.83333
A31: 11 | B31: Nils Arne Jevne | C31: V | D31: 834 | F31: 803 | N31: =SUM(D31:M31) -> 1637 | O31: =COUNT(D31:M31)*6 -> 12 | P31: =N31/O31 -> 136.41667
B33: FLISA
A34: 1 | B34: Gjermund Mathisen | C34: S | D34: 1241 | E34: 1294 | F34: 1510 | N34: =SUM(D34:M34) -> 4045 | O34: =COUNT(D34:M34)*6 -> 18 | P34: =N34/O34 -> 224.72222
A35: 2 | B35: Morten Botilsrud | C35: S | D35: 1188 | F35: 1430 | N35: =SUM(D35:M35) -> 2618 | O35: =COUNT(D35:M35)*6 -> 12 | P35: =N35/O35 -> 218.16667
A36: 3 | B36: Frode Vermund | C36: S | E36: 1324 | F36: 1256 | N36: =SUM(D36:M36) -> 2580 | O36: =COUNT(D36:M36)*6 -> 12 | P36: =N36/O36 -> 215
A37: 4 | B37: Andreas Skoglund | C37: S | D37: 1196 | E37: 1314 | N37: =SUM(D37:M37) -> 2510 | O37: =COUNT(D37:M37)*6 -> 12 | P37: =N37/O37 -> 209.16667
A38: 5 | B38: Jan Cato Sparby | C38: S | D38: 1215 | E38: 1203 | F38: 1337 | N38: =SUM(D38:M38) -> 3755 | O38: =COUNT(D38:M38)*6 -> 18 | P38: =N38/O38 -> 208.61111
A39: 6 | B39: Knut Atle Skoglund | C39: S | E39: 1201 | F39: 1193 | N39: =SUM(D39:M39) -> 2394 | O39: =COUNT(D39:M39)*6 -> 12 | P39: =N39/O39 -> 199.5
A40: 7 | B40: Helge Dammen | C40: S | D40: 1242 | E40: 1150 | F40: 1097 | N40: =SUM(D40:M40) -> 3489 | O40: =COUNT(D40:M40)*6 -> 18 | P40: =N40/O40 -> 193.83333
A41: 8 | B41: Arild Bergersen | C41: S | E41: 1164 | F41: 1152 | N41: =SUM(D41:M41) -> 2316 | O41: =COUNT(D41:M41)*6 -> 12 | P41: =N41/O41 -> 193
A42: 9 | B42: Nils Nesmoen | C42: S | D42: 1132 | E42: 1100 | F42: 1223 | N42: =SUM(D42:M42) -> 3455 | O42: =COUNT(D42:M42)*6 -> 18 | P42: =N42/O42 -> 191.94444
A43: 10 | B43: Geir R. Dammen | C43: S | D43: 1208 | E43: 1078 | F43: 1161 | N43: =SUM(D43:M43) -> 3447 | O43: =COUNT(D43:M43)*6 -> 18 | P43: =N43/O43 -> 191.5
A44: 11 | B44: Tom Ole Beck | C44: S | E44: 1151 | F44: 1145 | N44: =SUM(D44:M44) -> 2296 | O44: =COUNT(D44:M44)*6 -> 12 | P44: =N44/O44 -> 191.33333
A45: 12 | B45: Tore Fjeld | C45: S | D45: 1053 | E45: 1225 | N45: =SUM(D45:M45) -> 2278 | O45: =COUNT(D45:M45)*6 -> 12 | P45: =N45/O45 -> 189.83333
A46: 13 | B46: John Bergsløkken | C46: S | E46: 1118 | F46: 1102 | N46: =SUM(D46:M46) -> 2220 | O46: =COUNT(D46:M46)*6 -> 12 | P46: =N46/O46 -> 185
A47: 14 | B47: Jan Ivar Sparby | C47: S | D47: 1022 | E47: 1147 | F47: 1137 | N47: =SUM(D47:M47) -> 3306 | O47: =COUNT(D47:M47)*6 -> 18 | P47: =N47/O47 -> 183.66667
A48: 15 | B48: Bjørn Kjetil Sagerud | C48: S | E48: 1042 | N48: =SUM(D48:M48) -> 1042 | O48: =COUNT(D48:M48)*6 -> 6 | P48: =N48/O48 -> 173.66667
A49: 16 | B49: Tore Meiningen | C49: S | E49: 1032 | N49: =SUM(D49:M49) -> 1032 | O49: =COUNT(D49:M49)*6 -> 6 | P49: =N49/O49 -> 172
A50: 17 | B50: Finn Moseby | C50: S | F50: 1019 | N50: =SUM(D50:M50) -> 1019 | O50: =COUNT(D50:M50)*6 -> 6 | P50: =N50/O50 -> 169.83333
B52: GJØVIK
A53: 1 | B53: Tommy Johannessen | C53: Gj | D53: 1414 | E53: 1294 | F53: 1531 | N53: =SUM(D53:M53) -> 4239 | O53: =COUNT(D53:M53)*6 -> 18 | P53: =N53/O53 -> 235.5
A54: 2 | B54: Bjørn Floeng Svendby | C54: Gj | D54: 1279 | E54: 1346 | F54: 1363 | N54: =SUM(D54:M54) -> 3988 | O54: =COUNT(D54:M54)*6 -> 18 | P54: =N54/O54 -> 221.55556
A55: 3 | B55: Magne Erik Olsen | C55: Gj | E55: 1281 | F55: 1171 | N55: =SUM(D55:M55) -> 2452 | O55: =COUNT(D55:M55)*6 -> 12 | P55: =N55/O55 -> 204.33333
A56: 4 | B56: Daniel Gausetvik | C56: Mo | D56: 1330 | E56: 1209 | F56: 1130 | N56: =SUM(D56:M56) -> 3669 | O56: =COUNT(D56:M56)*6 -> 18 | P56: =N56/O56 -> 203.83333
A57: 5 | B57: Rune Martinsen | C57: Gj | D57: 1210 | E57: 1147 | F57: 1256 | N57: =SUM(D57:M57) -> 3613 | O57: =COUNT(D57:M57)*6 -> 18 | P57: =N57/O57 -> 200.72222
A58: 6 | B58: Gunnar Jan Hansen | C58: Gj | F58: 1168 | N58: =SUM(D58:M58) -> 1168 | O58: =COUNT(D58:M58)*6 -> 6 | P58: =N58/O58 -> 194.66667
A59: 7 | B59: Inge Hamnes | C59: Gj | D59: 1195 | E59: 1088 | F59: 1202 | N59: =SUM(D59:M59) -> 3485 | O59: =COUNT(D59:M59)*6 -> 18 | P59: =N59/O59 -> 193.61111
A60: 8 | B60: Øyvind Skoglund | C60: Gj | E60: 1159 | N60: =SUM(D60:M60) -> 1159 | O60: =COUNT(D60:M60)*6 -> 6 | P60: =N60/O60 -> 193.16667
A61: 9 | B61: Mads Ekern | C61: Gj | D61: 1125 | E61: 1126 | N61: =SUM(D61:M61) -> 2251 | O61: =COUNT(D61:M61)*6 -> 12 | P61: =N61/O61 -> 187.58333
A62: 10 | B62: T.O. Torsteinshaugen | C62: Gj | D62: 1130 | E62: 1117 | N62: =SUM(D62:M62) -> 2247 | O62: =COUNT(D62:M62)*6 -> 12 | P62: =N62/O62 -> 187.25
A63: 11 | B63: Hans Erik Menkerud | C63: Gj | D63: 1198 | E63: 1107 | F63: 1014 | N63: =SUM(D63:M63) -> 3319 | O63: =COUNT(D63:M63)*6 -> 18 | P63: =N63/O63 -> 184.38889
A64: 12 | B64: Paul Dahl | C64: Gj | D64: 1067 | E64: 1111 | N64: =SUM(D64:M64) -> 2178 | O64: =COUNT(D64:M64)*6 -> 12 | P64: =N64/O64 -> 181.5
A65: 13 | B65: Rune Gullberg | C65: Gj | D65: 1154 | E65: 1017 | N65: =SUM(D65:M65) -> 2171 | O65: =COUNT(D65:M65)*6 -> 12 | P65: =N65/O65 -> 180.91667
A66: 14 | B66: Bent Krister Mathisen | C66: Gj | D66: 1187 | E66: 992 | F66: 984 | N66: =SUM(D66:M66) -> 3163 | O66: =COUNT(D66:M66)*6 -> 18 | P66: =N66/O66 -> 175.72222
A67: 15 | B67: Helge Olsen Bye | C67: Gj | D67: 1018 | E67: 1056 | N67: =SUM(D67:M67) -> 2074 | O67: =COUNT(D67:M67)*6 -> 12 | P67: =N67/O67 -> 172.83333
A68: 16 | B68: Steinar Brukstuen | C68: Gj | D68: 1014 | E68: 1108 | F68: 943 | N68: =SUM(D68:M68) -> 3065 | O68: =COUNT(D68:M68)*6 -> 18 | P68: =N68/O68 -> 170.27778
A69: 17 | B69: Terje Bondeli | C69: Gj | E69: 1019 | N69: =SUM(D69:M69) -> 1019 | O69: =COUNT(D69:M69)*6 -> 6 | P69: =N69/O69 -> 169.83333
A70: 18 | B70: Niels H. Mariendal | C70: Gj | D70: 974 | F70: 995 | N70: =SUM(D70:M70) -> 1969 | O70: =COUNT(D70:M70)*6 -> 12 | P70: =N70/O70 -> 164.08333
A71: 19 | B71: Jørn Nordhagen | C71: L | F71: 975 | N71: =SUM(D71:M71) -> 975 | O71: =COUNT(D71:M71)*6 -> 6 | P71: =N71/O71 -> 162.5
A72: 20 | B72: Roger Eng | C72: Gj | D72: 848 | F72: 1003 | N72: =SUM(D72:M72) -> 1851 | O72: =COUNT(D72:M72)*6 -> 12 | P72: =N72/O72 -> 154.25
A73: 21 | B73: Rolf Stange | C73: Gj | D73: 821 | E73: 952 | N73: =SUM(D73:M73) -> 1773 | O73: =COUNT(D73:M73)*6 -> 12 | P73: =N73/O73 -> 147.75
A74: 22 | B74: Øystein Sustad | C74: Sy | E74: 806 | N74: =SUM(D74:M74) -> 806 | O74: =COUNT(D74:M74)*6 -> 6 | P74: =N74/O74 -> 134.33333
B76: HAMAR
A77: 1 | B77: Stian Olsen | C77: Br | F77: 1255 | N77: =SUM(D77:M77) -> 1255 | O77: =COUNT(D77:M77)*6 -> 6 | P77: =N77/O77 -> 209.16667
A78: 2 | B78: John Fossum | C78: Br | D78: 1179 | E78: 1254 | F78: 1182 | N78: =SUM(D78:M78) -> 3615 | O78: =COUNT(D78:M78)*6 -> 18 | P78: =N78/O78 -> 200.83333
A79: 3 | B79: Pål Sigurd Romskaug | C79: Be | E79: 1157 | F79: 1205 | N79: =SUM(D79:M79) -> 2362 | O79: =COUNT(D79:M79)*6 -> 12 | P79: =N79/O79 -> 196.83333
A80: 4 | B80: Odd G. Kaspersen | C80: Be | D80: 1247 | E80: 1147 | F80: 1082 | N80: =SUM(D80:M80) -> 3476 | O80: =COUNT(D80:M80)*6 -> 18 | P80: =N80/O80 -> 193.11111
A81: 5 | B81: Tor Inge Jansen | C81: Br | D81: 1133 | E81: 1253 | F81: 1083 | N81: =SUM(D81:M81) -> 3469 | O81: =COUNT(D81:M81)*6 -> 18 | P81: =N81/O81 -> 192.72222
A82: 6 | B82: Sean M. Hustveit | C82: Br | D82: 1080 | E82: 1130 | F82: 1245 | N82: =SUM(D82:M82) -> 3455 | O82: =COUNT(D82:M82)*6 -> 18 | P82: =N82/O82 -> 191.94444
A83: 7 | B83: Thore Liberg | C83: Br | D83: 1183 | E83: 1124 | F83: 1136 | N83: =SUM(D83:M83) -> 3443 | O83: =COUNT(D83:M83)*6 -> 18 | P83: =N83/O83 -> 191.27778
A84: 8 | B84: Christer Aker | C84: Br | D84: 1154 | E84: 1090 | F84: 1172 | N84: =SUM(D84:M84) -> 3416 | O84: =COUNT(D84:M84)*6 -> 18 | P84: =N84/O84 -> 189.77778
A85: 9 | B85: Rolf Johan Boysen | C85: Br | E85: 1130 | N85: =SUM(D85:M85) -> 1130 | O85: =COUNT(D85:M85)*6 -> 6 | P85: =N85/O85 -> 188.33333
A86: 10 | B86: Tron August Bråten | C86: Br | E86: 1117 | N86: =SUM(D86:M86) -> 1117 | O86: =COUNT(D86:M86)*6 -> 6 | P86: =N86/O86 -> 186.16667
A87: 11 | B87: Geir Ståle Kristiansen | C87: Br | D87: 1112 | E87: 1105 | F87: 1121 | N87: =SUM(D87:M87) -> 3338 | O87: =COUNT(D87:M87)*6 -> 18 | P87: =N87/O87 -> 185.44444
A88: 12 | B88: Harry Engebakken | C88: Be | D88: 1079 | F88: 1128 | N88: =SUM(D88:M88) -> 2207 | O88: =COUNT(D88:M88)*6 -> 12 | P88: =N88/O88 -> 183.91667
A89: 13 | B89: Ola Bjørtomt | C89: Be | D89: 1043 | E89: 1087 | F89: 1130 | N89: =SUM(D89:M89) -> 3260 | O89: =COUNT(D89:M89)*6 -> 18 | P89: =N89/O89 -> 181.11111
A90: 14 | B90: Per Sverre Thomassen | C90: Be | E90: 1082 | F90: 1073 | N90: =SUM(D90:M90) -> 2155 | O90: =COUNT(D90:M90)*6 -> 12 | P90: =N90/O90 -> 179.58333
A91: 15 | B91: Kristian Saug | C91: Be | D91: 1071 | N91: =SUM(D91:M91) -> 1071 | O91: =COUNT(D91:M91)*6 -> 6 | P91: =N91/O91 -> 178.5
A92: 16 | B92: Henning Olsen | C92: Br | E92: 1061 | N92: =SUM(D92:M92) -> 1061 | O92: =COUNT(D92:M92)*6 -> 6 | P92: =N92/O92 -> 176.83333
A93: 17 | B93: Arve Fossum | C93: Be | F93: 1057 | N93: =SUM(D93:M93) -> 1057 | O93: =COUNT(D93:M93)*6 -> 6 | P93: =N93/O93 -> 176.16667
A94: 18 | B94: Morten Berntsen | C94: Be | F94: 1053 | N94: =SUM(D94:M94) -> 1053 | O94: =COUNT(D94:M94)*6 -> 6 | P94: =N94/O94 -> 175.5
A95: 19 | B95: Henning Rugsveen | C95: Br | E95: 1052 | F95: 1041 | N95: =SUM(D95:M95) -> 2093 | O95: =COUNT(D95:M95)*6 -> 12 | P95: =N95/O95 -> 174.41667
A96: 20 | B96: Morten Lund | C96: Be | D96: 1111 | E96: 1010 | F96: 1011 | N96: =SUM(D96:M96) -> 3132 | O96: =COUNT(D96:M96)*6 -> 18 | P96: =N96/O96 -> 174
A97: 21 | B97: Erik G. Martinsen | C97: Br | D97: 1107 | E97: 1056 | F97: 958 | N97: =SUM(D97:M97) -> 3121 | O97: =COUNT(D97:M97)*6 -> 18 | P97: =N97/O97 -> 173.38889
A98: 22 | B98: Tor Engeskaug | C98: Be | F98: 1022 | N98: =SUM(D98:M98) -> 1022 | O98: =COUNT(D98:M98)*6 -> 6 | P98: =N98/O98 -> 170.33333
A99: 23 | B99: Gudbrand Mikkelsen | C99: Be | E99: 1020 | N99: =SUM(D99:M99) -> 1020 | O99: =COUNT(D99:M99)*6 -> 6 | P99: =N99/O99 -> 170
A100: 24 | B100: Kent Magne Høgsven | C100: Br | D100: 992 | F100: * | N100: =SUM(D100:M100) -> 992 | O100: =COUNT(D100:M100)*6 -> 6 | P100: =N100/O100 -> 165.33333
A101: 25 | B101: Jan Terje Mæhlum | C101: Be | D101: 1004 | F101: 862 | N101: =SUM(D101:M101) -> 1866 | O101: =COUNT(D101:M101)*6 -> 12 | P101: =N101/O101 -> 155.5
A102: 26 | B102: Erland Lund | C102: Br | D102: 1247 | E102: 1317 | F102: 1001 | N102: =SUM(D102:E102) -> 2564 | O102: =COUNT(D102:M102)*6 -> 18 | P102: =N102/O102 -> 142.44444
A103: 27 | B103: Morten Lillehovde | C103: Be | F103: 824 | N103: =SUM(D103:M103) -> 824 | O103: =COUNT(D103:M103)*6 -> 6 | P103: =N103/O103 -> 137.33333
B105: KONGSVINGER
A106: 1 | B106: Svenn-Rune Hansen | C106: As | D106: 1388 | N106: =SUM(D106:M106) -> 1388 | O106: =COUNT(D106:M106)*6 -> 6 | P106: =N106/O106 -> 231.33333
...

Sheet T.L kvinner
A1: 5´er-cup 2011-12 | H1: Damer:
B2: Navn | C2: Klubb | D2: Aug. | E2: Sept. | F2: Okt. | G2: Nov. | H2: Des. | I2: Jan. | J2: Febr. | K2: Mars | L2: April | M2: Mai | N2: Sum | O2: Serier | P2: Snitt
B4: ELVERUM
A5: 1 | B5: Berit Sletmoen | C5: E | D5: 981 | N5: =SUM(D5:M5) -> 981 | O5: =COUNT(D5:M5)*6 -> 6 | P5: =N5/O5 -> 163.5
A6: 2 | B6: Mette Braanaas | C6: E | D6: 963 | E6: 976 | F6: 966 | N6: =SUM(D6:M6) -> 2905 | O6: =COUNT(D6:M6)*6 -> 18 | P6: =N6/O6 -> 161.38889
A7: 3 | B7: Mona Lisbeth Galåen | C7: E | D7: 912 | F7: 974 | N7: =SUM(D7:M7) -> 1886 | O7: =COUNT(D7:M7)*6 -> 12 | P7: =N7/O7 -> 157.16667
A8: 4 | B8: Anne-Mette Bjørsland | C8: E | E8: 766 | F8: 720 | N8: =SUM(D8:M8) -> 1486 | O8: =COUNT(D8:M8)*6 -> 12 | P8: =N8/O8 -> 123.83333
B12: FAGERNES
A13: 1 | B13: Astrid N. Andersen | C13: V | D13: 968 | F13: 914 | N13: =SUM(D13:M13) -> 1882 | O13: =COUNT(D13:M13)*6 -> 12 | P13: =N13/O13 -> 156.83333
A14: 2 | B14: Randi Flaget | C14: V | D14: 765 | E14: 801 | F14: 836 | N14: =SUM(D14:M14) -> 2402 | O14: =COUNT(D14:M14)*6 -> 18 | P14: =N14/O14 -> 133.44444
B18: FLISA
A19: 1 | B19: Anita Meiningen | C19: S | D19: 1250 | E19: 1156 | N19: =SUM(D19:M19) -> 2406 | O19: =COUNT(D19:M19)*6 -> 12 | P19: =N19/O19 -> 200.5
A20: 2 | B20: Gerd Brandett | C20: S | D20: 1219 | E20: 1088 | F20: 1213 | N20: =SUM(D20:M20) -> 3520 | O20: =COUNT(D20:M20)*6 -> 18 | P20: =N20/O20 -> 195.55556
A21: 3 | B21: Linda Mari Dammen | C21: As | F21: 1135 | N21: =SUM(D21:M21) -> 1135 | O21: =COUNT(D21:M21)*6 -> 6 | P21: =N21/O21 -> 189.16667
A22: 4 | B22: Elin Mathisen | C22: S | D22: 1127 | E22: 1095 | F22: 1132 | N22: =SUM(D22:M22) -> 3354 | O22: =COUNT(D22:M22)*6 -> 18 | P22: =N22/O22 -> 186.33333
B23: Lisa Marie Stensby | C23: S | F23: 1053 | N23: =SUM(D23:M23) -> 1053 | O23: =COUNT(D23:M23)*6 -> 6 | P23: =N23/O23 -> 175.5
B24: Toril Dammen | C24: S | D24: 997 | E24: 995 | F24: 1050 | N24: =SUM(D24:M24) -> 3042 | O24: =COUNT(D24:M24)*6 -> 18 | P24: =N24/O24 -> 169
B26: GJØVIK
A27: 1 | B27: Grace Torgeirson | C27: Gj | D27: 1281 | E27: 1145 | F27: 1293 | N27: =SUM(D27:M27) -> 3719 | O27: =COUNT(D27:M27)*6 -> 18 | P27: =N27/O27 -> 206.61111
A28: 2 | B28: Inger-Lise Eng | C28: Gj | D28: 1145 | E28: 1089 | F28: 1172 | N28: =SUM(D28:M28) -> 3406 | O28: =COUNT(D28:M28)*6 -> 18 | P28: =N28/O28 -> 189.22222
A29: 3 | B29: Camilla Berg Olsen | C29: Gj | E29: 1131 | N29: =SUM(D29:M29) -> 1131 | O29: =COUNT(D29:M29)*6 -> 6 | P29: =N29/O29 -> 188.5
A30: 4 | B30: Lillian Larsen | C30: Gj | D30: 1219 | E30: 1093 | F30: 1052 | N30: =SUM(D30:M30) -> 3364 | O30: =COUNT(D30:M30)*6 -> 18 | P30: =N30/O30 -> 186.88889
A31: 5 | B31: Katrin Storhaugstuen | C31: Gj | E31: 1045 | N31: =SUM(D31:M31) -> 1045 | O31: =COUNT(D31:M31)*6 -> 6 | P31: =N31/O31 -> 174.16667
A32: 6 | B32: Line Søhagen | C32: Gj | D32: 907 | F32: 1098 | N32: =SUM(D32:M32) -> 2005 | O32: =COUNT(D32:M32)*6 -> 12 | P32: =N32/O32 -> 167.08333
A33: 7 | B33: Sara Lindstad | C33: Gj | E33: 999 | N33: =SUM(D33:M33) -> 999 | O33: =COUNT(D33:M33)*6 -> 6 | P33: =N33/O33 -> 166.5
B37: HAMAR
A38: 1 | B38: Camilla Berg Olsen | C38: Gj | F38: 1081 | N38: =SUM(D38:M38) -> 1081 | O38: =COUNT(D38:M38)*6 -> 6 | P38: =N38/O38 -> 180.16667
A39: 2 | B39: Turid-Lise Øvstegaard | C39: Be | D39: 943 | F39: 1002 | N39: =SUM(D39:M39) -> 1945 | O39: =COUNT(D39:M39)*6 -> 12 | P39: =N39/O39 -> 162.08333
B42: KONGSVINGER
A43: 1 | B43: Monica Bekkelund | C43: Gl | D43: 1119 | F43: 1186 | N43: =SUM(D43:M43) -> 2305 | O43: =COUNT(D43:M43)*6 -> 12 | P43: =N43/O43 -> 192.08333
A44: 2 | B44: Grethe B.Bergersen | C44: Gl | D44: 1142 | E44: 1172 | F44: 1093 | N44: =SUM(D44:M44) -> 3407 | O44: =COUNT(D44:M44)*6 -> 18 | P44: =N44/O44 -> 189.27778
A45: 3 | B45: Randi Hansen | C45: As | D45: 1111 | N45: =SUM(D45:M45) -> 1111 | O45: =COUNT(D45:M45)*6 -> 6 | P45: =N45/O45 -> 185.16667
A46: 4 | B46: Mona Danielsen | C46: Gl | D46: 960 | E46: 997 | F46: 894 | N46: =SUM(D46:M46) -> 2851 | O46: =COUNT(D46:M46)*6 -> 18 | P46: =N46/O46 -> 158.38889
A47: 5 | B47: Lisbet Buserud | C47: Gl | E47: 918 | N47: =SUM(D47:M47) -> 918 | O47: =COUNT(D47:M47)*6 -> 6 | P47: =N47/O47 -> 153
A48: 6 | B48: Anita Hagen | C48: Gl | D48: 890 | E48: 833 | F48: 908 | N48: =SUM(D48:M48) -> 2631 | O48: =COUNT(D48:M48)*6 -> 18 | P48: =N48/O48 -> 146.16667
A49: 7 | B49: Jorunn Jusnes | C49: Gl | F49: 809 | N49: =SUM(D49:M49) -> 809 | O49: =COUNT(D49:M49)*6 -> 6 | P49: =N49/O49 -> 134.83333
A50: 8 | B50: Liv S.Engom | C50: Gl | D50: 745 | E50: 641 | F50: 773 | N50: =SUM(D50:M50) -> 2159 | O50: =COUNT(D50:M50)*6 -> 18 | P50: =N50/O50 -> 119.94444
A51: 9 | B51: Amelia Åsengen | C51: Gl | F51: 626 | N51: =SUM(D51:M51) -> 626 | O51: =COUNT(D51:M51)*6 -> 6 | P51: =N51/O51 -> 104.33333

Sheet T.L junior
A1: 5´er-cup 2011-12 | H1: Junior:
B2: Navn | C2: Klubb | D2: Aug. | E2: Sept. | F2: Okt. | G2: Nov. | H2: Des. | I2: Jan. | J2: Febr. | K2: Mars | L2: April | M2: Mai | N2: Sum | O2: Serier | P2: Snitt
A3: 1 | B3: Jens Mathiesen | C3: S | D3: 1008 | E3: 915 | F3: 1047 | N3: =SUM(D3:E3) -> 1923 | O3: 6 | P3: =SUM(N3/O3) -> 320.5
H5: U13:
B6: Navn | C6: Klubb | D6: Aug. | E6: Sept. | F6: Okt. | G6: Nov. | H6: Des. | I6: Jan. | J6: Febr. | K6: Mars | L6: April | M6: Mai | N6: Sum | O6: Serier | P6: Snitt
A7: 1 | B7: Jørgen Mathiesen | C7: S | E7: 730 | F7: 837 | N7: =SUM(D7:E7) -> 730 | O7: 6 | P7: =SUM(N7/O7) -> 121.66667
A8: 2 | B8: Niclas Nordhagen | C8: L | D8: 574 | F8: 578 | N8: =SUM(D8:E8) -> 574 | O8: 6 | P8: =SUM(N8/O8) -> 95.666667
H10: U11:
B11: Navn | C11: Klubb | D11: Aug. | E11: Sept. | F11: Okt. | G11: Nov. | H11: Des. | I11: Jan. | J11: Febr. | K11: Mars | L11: April | M11: Mai | N11: Sum | O11: Serier | P11: Snitt
A12: 1 | B12: Jonas Dammen | C12: S | D12: 997 | E12: 1064 | F12: 934 | N12: =SUM(D12:F12) -> 2995 | O12: 12 | P12: =SUM(N12/O12) -> 249.58333

Sheet Oversikt økonomi
A1: Oversikt over 5´cupen 2009-2010
A2: Antall | D2: Totalt antall | G2: Turnerings | H2: Netto før | J2: Overskudd/ | K2: Ekstra pga
A3: deltagere: | B3: Totalt: | C3: Med 6+ | D3: turneringer | E3: Innbetalt | F3: Avgift NBF | G3: avgift | H3: premier | I3: Premier | J3: krus | K3: 10,- økning
A4: Herrer: | B4: =COUNT('T.L menn'!A5:A140) -> 117 | C4: =COUNT(#REF!) -> 0 | D4: =COUNT('T.L menn'!D5:M178) -> 244 | E4: =D4*60 -> 14640 | F4: =D4*20 -> 4880 | H4: =E4-F4 -> 9760 | I4: =C32 -> 24300 | K4: =D4*10 -> 2440
A5: Damer: | B5: =COUNT('T.L kvinner'!A5:A142) -> 28 | C5: =COUNT(#REF!) -> 0 | D5: =COUNT('T.L kvinner'!D5:M60) -> 61 | E5: =D5*60 -> 3660 | F5: =D5*20 -> 1220 | H5: =E5-F5 -> 2440 | I5: =F32 -> 5000 | K5: =D5*10 -> 610
A6: Junior: | B6: =COUNT('T.L junior'!A3:A102) -> 4 | C6: 9 | D6: =COUNT('T.L junior'!D3:M13) -> 10 | E6: =D6*30 -> 300 | F6: 0 | H6: =E6-F6 -> 300 | I6: =I32 -> 3100
A7: Sum: | B7: =SUM(B4:B6) -> 149 | C7: =SUM(C4:C6) -> 9 | D7: =SUM(D4:D6) -> 315 | E7: =SUM(E4:E6) -> 18600 | F7: =SUM(F4:F6) -> 6100 | G7: 1500 | H7: =SUM(H4:H6)-G7 -> 11000 | I7: =SUM(I4:I6)+C37 -> 42400 | J7: =H7-I7 -> -31400 | K7: =SUM(K4:K5) -> 3050
A10: Herrer: | E10: Damer: | H10: Junior:
A11: 1.premie | C11: 5500 | E11: 1.premie | F11: 2000 | H11: 1.premie | I11: 1500
A12: 2.premie | C12: 4000 | E12: 2.premie | F12: 1400 | H12: 2.premie | I12: 1000
A13: 3.premie | C13: 2500 | E13: 3.premie | F13: 800 | H13: 3.premie | I13: 600
A14: 4.premie | C14: 1500 | E14: 4.premie | F14: 400 | H14: Beste jente | I14: *400 | J14: ikke noen som er kvalifisert denne sesongen
A15: 5.premie | C15: 1200 | E15: 5.premie | F15: 400 | J15: Premiene justeres til våren
A16: 6.premie | C16: 1200 | J16: etter antall deltagere
A17: 7.premie | C17: 1000
A18: 8.premie | C18: 1000
A19: 9.premie | C19: 800
A20: 10.premie | C20: 800
A21: 11.premie | C21: 600
A22: 12.premie | C22: 600
A23: 13.premie | C23: 500
A24: 14.premie | C24: 500
A25: 15.premie | C25: 500
A26: 16.premie | C26: 500
A27: 17.premie | C27: 400
A28: 18.premie | C28: 400
... A30: 20.premie | C30: 400
A32: Samlet: | C32: =SUM(C11:C30) -> 24300 | F32: =SUM(F11:F31) -> 5000 | I32: =SUM(I11:I31) -> 3100
A37: Trekte premier | C37: 10000

Sheet Premieoversikt
A1: Premieoversikt 5 cup sesongen 2007-2008
A3: Herrer: | C3: Navn: | D3: Premie overføres til konto: | E3: Evt.merknader
A4: 1.premie | B4: 5500 | C4: Gjermund Mathiesen | D4: 1917 10 11461
A5: 2.premie | B5: 4000 | C5: Sean M. Hustveit | D5: 1822 19 04210
A6: 3.premie | B6: 2500 | C6: Christer Aker | D6: 1822 12 33316
A7: 3.premie | B7: 1500 | C7: Jan Cato Sparby
A8: 5.premie | B8: 1200 | C8: Stian Olsen | D8: 2050 04 72503
A9: 6.premie | B9: 1200 | C9: John Fossum | D9: 9713 17 71189
A10: 7.premie | B10: 1000 | C10: Tor Inge Jansen | D10: 1440.16.88871 | E10: kontrollert
A11: 8.premie | B11: 1000 | C11: Erland Lund | D11: 1865 11 51763
A12: 9.premie | B12: 800 | C12: Tommy Johannessen | D12: 6179 10 71649 | E12: kontrollert
A13: 10.premie | B13: 800 | C13: Kyrre Kleverud
A14: 11.premie | B14: 600 | C14: Morten Botilsrud
A15: 12.premie | B15: 600 | C15: Knut Atle Skoglund
A16: 13.premie | B16: 500 | C16: Bjørn Lindstad
A17: 14.premie | B17: 500 | C17: Geir Ståle Kristiansen | D17: 1201 06 69985
A18: 15.premie | B18: 500 | C18: Håvard Haugen
A19: 16.premie | B19: 500 | C19: Hallgeir Lønstad | D19: 2010 13 03374 | E19: kontrollert
A20: 17.premie | B20: 400 | C20: Thore Liberg | D20: 1822 26 16154
A21: 18.premie | B21: 400 | C21: Arne Rui | D21: 0530 82 61281 | E21: kontrollert
A22: 19.premie | B22: 400 | C22: Torleif Strandvik
A23: 20.premie | B23: 400 | C23: Bjørn F Svendby | D23: 1822 09 15707 | E23: kontrollert
A25: Damer:
A26: 1.premie | B26: 2000 | C26: Camilla Berg Olsen
A27: 2.premie | B27: 1400 | C27: Grace Torgeirson | D27: 1604 05 18995
A28: 3.premie | B28: 800 | C28: Gerd Brandett
A29: 4.premie | B29: 400 | C29: Lillian Larsen | D29: 0534 66 24738 | E29: kontrollert
A30: 5.premie | B30: 400 | C30: Turid-Lise Øvstegaard
A32: Junior:
A33: 1.premie | B33: 1500 | C33: Andreas Skoglund | D33: 1822.21.35164 | E33: kontrollert
A34: 2.premie | B34: 1000 | C34: Fredrick Åsheim | D34: 1604 13 99477
A35: 3.premie | B35: 600 | C35: Håkon Nerdrum | D35: 1822.22.54147 | E35: kontrollert
A36: beste jente | B36: 400 | C36: Anne-Mette Bjørsland
